BEGIN:VCALENDAR
VERSION:2.0
PRODID:-//City of Jonesboro - GA - ECPv6.13.2.1//NONSGML v1.0//EN
CALSCALE:GREGORIAN
METHOD:PUBLISH
X-WR-CALNAME:City of Jonesboro - GA
X-ORIGINAL-URL:https://jonesboroga-archived.com
X-WR-CALDESC:Events for City of Jonesboro - GA
REFRESH-INTERVAL;VALUE=DURATION:PT1H
X-Robots-Tag:noindex
X-PUBLISHED-TTL:PT1H
BEGIN:VTIMEZONE
TZID:UTC
BEGIN:STANDARD
TZOFFSETFROM:+0000
TZOFFSETTO:+0000
TZNAME:UTC
DTSTART:20160101T000000
END:STANDARD
END:VTIMEZONE
BEGIN:VEVENT
DTSTART;VALUE=DATE:20170303
DTEND;VALUE=DATE:20170304
DTSTAMP:20260426T042218
CREATED:20250521T072008Z
LAST-MODIFIED:20250714T064511Z
UID:895-1488564000-1488564000@jonesboroga-archived.com
SUMMARY:Mar 03\, 2017 06:00 PM
DESCRIPTION:3/3/2017 6:00 PM
URL:https://jonesboroga-archived.com/meeting/mar-03-2017-0600-pm/
LOCATION:The Magnolia House & Garden
CATEGORIES:City Council
END:VEVENT
BEGIN:VEVENT
DTSTART;VALUE=DATE:20170302
DTEND;VALUE=DATE:20170303
DTSTAMP:20260426T042218
CREATED:20250521T072007Z
LAST-MODIFIED:20250714T064511Z
UID:894-1488477600-1488477600@jonesboroga-archived.com
SUMMARY:Mar 02\, 2017 06:00 PM
DESCRIPTION:3/2/2017 6:00 PM
URL:https://jonesboroga-archived.com/meeting/mar-02-2017-0600-pm/
LOCATION:Jonesboro Police Department
CATEGORIES:Downtown Development Authority
END:VEVENT
BEGIN:VEVENT
DTSTART;VALUE=DATE:20170224
DTEND;VALUE=DATE:20170225
DTSTAMP:20260426T042218
CREATED:20250521T073247Z
LAST-MODIFIED:20250714T064511Z
UID:1331-1487925000-1487925000@jonesboroga-archived.com
SUMMARY:Feb 24\, 2017 08:30 AM
DESCRIPTION:2/24/2017 8:30 AM
URL:https://jonesboroga-archived.com/meeting/feb-24-2017-0830-am/
LOCATION:Clayton County Chamber of Commerce
CATEGORIES:Downtown Development Authority
END:VEVENT
BEGIN:VEVENT
DTSTART;VALUE=DATE:20170220
DTEND;VALUE=DATE:20170221
DTSTAMP:20260426T042218
CREATED:20250521T072433Z
LAST-MODIFIED:20250714T034648Z
UID:1054-1487613600-1487613600@jonesboroga-archived.com
SUMMARY:Feb 20\, 2017 06:00 PM
DESCRIPTION:2/20/2017 6:00 PM
URL:https://jonesboroga-archived.com/meeting/feb-20-2017-0600-pm/
LOCATION:Jonesboro Housing Authority
CATEGORIES:Jonesboro Housing Authority
END:VEVENT
BEGIN:VEVENT
DTSTART;VALUE=DATE:20170213
DTEND;VALUE=DATE:20170214
DTSTAMP:20260426T042218
CREATED:20250521T072007Z
LAST-MODIFIED:20250714T064511Z
UID:892-1487008800-1487008800@jonesboroga-archived.com
SUMMARY:Feb 13\, 2017 06:00 PM
DESCRIPTION:2/13/2017 6:00 PM
URL:https://jonesboroga-archived.com/meeting/feb-13-2017-0600-pm/
LOCATION:Jonesboro Police Department
CATEGORIES:City Council
END:VEVENT
BEGIN:VEVENT
DTSTART;VALUE=DATE:20170206
DTEND;VALUE=DATE:20170207
DTSTAMP:20260426T042218
CREATED:20250521T072007Z
LAST-MODIFIED:20250714T064454Z
UID:891-1486404000-1486404000@jonesboroga-archived.com
SUMMARY:Feb 06\, 2017 06:00 PM
DESCRIPTION:2/6/2017 6:00 PM
URL:https://jonesboroga-archived.com/meeting/feb-06-2017-0600-pm/
LOCATION:Jonesboro Police Department
CATEGORIES:City Council
END:VEVENT
BEGIN:VEVENT
DTSTART;VALUE=DATE:20170202
DTEND;VALUE=DATE:20170203
DTSTAMP:20260426T042218
CREATED:20250521T072007Z
LAST-MODIFIED:20250714T064511Z
UID:893-1486058400-1486058400@jonesboroga-archived.com
SUMMARY:Feb 02\, 2017 06:00 PM
DESCRIPTION:2/2/2017 6:00 PM
URL:https://jonesboroga-archived.com/meeting/feb-02-2017-0600-pm/
LOCATION:Jonesboro Police Department
CATEGORIES:Downtown Development Authority
END:VEVENT
BEGIN:VEVENT
DTSTART;VALUE=DATE:20170117
DTEND;VALUE=DATE:20170118
DTSTAMP:20260426T042218
CREATED:20250521T072433Z
LAST-MODIFIED:20250714T034648Z
UID:1053-1484676000-1484676000@jonesboroga-archived.com
SUMMARY:Jan 17\, 2017 06:00 PM
DESCRIPTION:1/17/2017 6:00 PM
URL:https://jonesboroga-archived.com/meeting/jan-17-2017-0600-pm/
LOCATION:Jonesboro Housing Authority
CATEGORIES:Jonesboro Housing Authority
END:VEVENT
BEGIN:VEVENT
DTSTART;VALUE=DATE:20170109
DTEND;VALUE=DATE:20170110
DTSTAMP:20260426T042218
CREATED:20250521T071959Z
LAST-MODIFIED:20250714T064454Z
UID:890-1483984800-1483984800@jonesboroga-archived.com
SUMMARY:Jan 09\, 2017 06:00 PM
DESCRIPTION:1/9/2017 6:00 PM
URL:https://jonesboroga-archived.com/meeting/jan-09-2017-0600-pm/
LOCATION:Jonesboro Police Department
CATEGORIES:City Council
END:VEVENT
BEGIN:VEVENT
DTSTART;VALUE=DATE:20170105
DTEND;VALUE=DATE:20170106
DTSTAMP:20260426T042218
CREATED:20250521T071959Z
LAST-MODIFIED:20250714T064454Z
UID:889-1483639200-1483639200@jonesboroga-archived.com
SUMMARY:Jan 05\, 2017 06:00 PM
DESCRIPTION:1/5/2017 6:00 PM
URL:https://jonesboroga-archived.com/meeting/jan-05-2017-0600-pm/
LOCATION:Jonesboro Police Department
CATEGORIES:Downtown Development Authority
END:VEVENT
BEGIN:VEVENT
DTSTART;VALUE=DATE:20161219
DTEND;VALUE=DATE:20161220
DTSTAMP:20260426T042218
CREATED:20250521T072425Z
LAST-MODIFIED:20250714T034619Z
UID:1052-1482170400-1482170400@jonesboroga-archived.com
SUMMARY:Dec 19\, 2016 06:00 PM
DESCRIPTION:12/19/2016 6:00 PM
URL:https://jonesboroga-archived.com/meeting/dec-19-2016-0600-pm-2/
LOCATION:Jonesboro Housing Authority
CATEGORIES:Jonesboro Housing Authority
END:VEVENT
BEGIN:VEVENT
DTSTART;VALUE=DATE:20161219
DTEND;VALUE=DATE:20161220
DTSTAMP:20260426T042218
CREATED:20250521T070835Z
LAST-MODIFIED:20250714T064438Z
UID:483-1482170400-1482170400@jonesboroga-archived.com
SUMMARY:Dec 19\, 2016 06:00 PM
DESCRIPTION:12/19/2016 6:00 PM
URL:https://jonesboroga-archived.com/meeting/dec-19-2016-0600-pm/
LOCATION:Jonesboro Police Department
CATEGORIES:City Council
END:VEVENT
BEGIN:VEVENT
DTSTART;VALUE=DATE:20161219
DTEND;VALUE=DATE:20161220
DTSTAMP:20260426T042218
CREATED:20250521T072236Z
LAST-MODIFIED:20250714T034215Z
UID:981-1482168600-1482168600@jonesboroga-archived.com
SUMMARY:Dec 19\, 2016 05:30 PM
DESCRIPTION:12/19/2016 5:30 PM
URL:https://jonesboroga-archived.com/meeting/dec-19-2016-0530-pm/
LOCATION:Jonesboro City Hall
CATEGORIES:Jonesboro Historic Preservation Commission
END:VEVENT
BEGIN:VEVENT
DTSTART;VALUE=DATE:20161212
DTEND;VALUE=DATE:20161213
DTSTAMP:20260426T042218
CREATED:20250521T073221Z
LAST-MODIFIED:20250714T064109Z
UID:1316-1481500800-1481500800@jonesboroga-archived.com
SUMMARY:Dec 12\, 2016 12:00 AM
DESCRIPTION:12/12/2016 12:00 AM
URL:https://jonesboroga-archived.com/meeting/dec-12-2016-1200-am/
LOCATION:Jonesboro Police Department
CATEGORIES:City Council
END:VEVENT
BEGIN:VEVENT
DTSTART;VALUE=DATE:20161205
DTEND;VALUE=DATE:20161206
DTSTAMP:20260426T042218
CREATED:20250521T065941Z
LAST-MODIFIED:20250714T064109Z
UID:168-1480960800-1480960800@jonesboroga-archived.com
SUMMARY:Dec 05\, 2016 06:00 PM
DESCRIPTION:12/5/2016 6:00 PM
URL:https://jonesboroga-archived.com/meeting/dec-05-2016-0600-pm/
LOCATION:Jonesboro Police Department
CATEGORIES:City Council
END:VEVENT
BEGIN:VEVENT
DTSTART;VALUE=DATE:20161129
DTEND;VALUE=DATE:20161130
DTSTAMP:20260426T042218
CREATED:20250521T071959Z
LAST-MODIFIED:20250714T064454Z
UID:888-1480442400-1480442400@jonesboroga-archived.com
SUMMARY:Nov 29\, 2016 06:00 PM
DESCRIPTION:11/29/2016 6:00 PM
URL:https://jonesboroga-archived.com/meeting/nov-29-2016-0600-pm/
LOCATION:Jonesboro Police Department
CATEGORIES:Downtown Development Authority
END:VEVENT
BEGIN:VEVENT
DTSTART;VALUE=DATE:20161121
DTEND;VALUE=DATE:20161122
DTSTAMP:20260426T042218
CREATED:20250521T072235Z
LAST-MODIFIED:20250714T034215Z
UID:980-1479749400-1479749400@jonesboroga-archived.com
SUMMARY:Nov 21\, 2016 05:30 PM
DESCRIPTION:11/21/2016 5:30 PM
URL:https://jonesboroga-archived.com/meeting/nov-21-2016-0530-pm/
LOCATION:Jonesboro City Hall
CATEGORIES:Jonesboro Historic Preservation Commission
END:VEVENT
BEGIN:VEVENT
DTSTART;VALUE=DATE:20161115
DTEND;VALUE=DATE:20161116
DTSTAMP:20260426T042218
CREATED:20250521T072425Z
LAST-MODIFIED:20250714T034619Z
UID:1051-1479232800-1479232800@jonesboroga-archived.com
SUMMARY:Nov 15\, 2016 06:00 PM
DESCRIPTION:11/15/2016 6:00 PM
URL:https://jonesboroga-archived.com/meeting/nov-15-2016-0600-pm/
LOCATION:Jonesboro Housing Authority
CATEGORIES:Jonesboro Housing Authority
END:VEVENT
BEGIN:VEVENT
DTSTART;VALUE=DATE:20161114
DTEND;VALUE=DATE:20161115
DTSTAMP:20260426T042218
CREATED:20250521T065941Z
LAST-MODIFIED:20250714T064109Z
UID:167-1479146400-1479146400@jonesboroga-archived.com
SUMMARY:Nov 14\, 2016 06:00 PM
DESCRIPTION:11/14/2016 6:00 PM
URL:https://jonesboroga-archived.com/meeting/nov-14-2016-0600-pm/
LOCATION:Jonesboro Police Department
CATEGORIES:City Council
END:VEVENT
BEGIN:VEVENT
DTSTART;VALUE=DATE:20161114
DTEND;VALUE=DATE:20161115
DTSTAMP:20260426T042218
CREATED:20250521T070835Z
LAST-MODIFIED:20250714T064438Z
UID:481-1479142800-1479142800@jonesboroga-archived.com
SUMMARY:Nov 14\, 2016 05:00 PM
DESCRIPTION:11/14/2016 5:00 PM
URL:https://jonesboroga-archived.com/meeting/nov-14-2016-0500-pm/
LOCATION:Jonesboro Police Department Conference Room
CATEGORIES:City Council
END:VEVENT
BEGIN:VEVENT
DTSTART;VALUE=DATE:20161107
DTEND;VALUE=DATE:20161108
DTSTAMP:20260426T042218
CREATED:20250521T073212Z
LAST-MODIFIED:20250714T064052Z
UID:1313-1478541600-1478541600@jonesboroga-archived.com
SUMMARY:Nov 07\, 2016 06:00 PM
DESCRIPTION:11/7/2016 6:00 PM
URL:https://jonesboroga-archived.com/meeting/nov-07-2016-0600-pm/
LOCATION:Jonesboro Police Department
CATEGORIES:City Council
END:VEVENT
BEGIN:VEVENT
DTSTART;VALUE=DATE:20161103
DTEND;VALUE=DATE:20161104
DTSTAMP:20260426T042218
CREATED:20250521T070835Z
LAST-MODIFIED:20250714T064438Z
UID:480-1478196000-1478196000@jonesboroga-archived.com
SUMMARY:Nov 03\, 2016 06:00 PM
DESCRIPTION:11/3/2016 6:00 PM
URL:https://jonesboroga-archived.com/meeting/nov-03-2016-0600-pm/
LOCATION:Jonesboro City Hall
CATEGORIES:Downtown Development Authority
END:VEVENT
BEGIN:VEVENT
DTSTART;VALUE=DATE:20161020
DTEND;VALUE=DATE:20161021
DTSTAMP:20260426T042218
CREATED:20250521T073229Z
LAST-MODIFIED:20250714T064438Z
UID:1320-1476986400-1476986400@jonesboroga-archived.com
SUMMARY:Oct 20\, 2016 06:00 PM
DESCRIPTION:10/20/2016 6:00 PM
URL:https://jonesboroga-archived.com/meeting/oct-20-2016-0600-pm/
LOCATION:Jonesboro Police Department
CATEGORIES:City Council
END:VEVENT
BEGIN:VEVENT
DTSTART;VALUE=DATE:20161020
DTEND;VALUE=DATE:20161021
DTSTAMP:20260426T042218
CREATED:20250521T073221Z
LAST-MODIFIED:20250714T064125Z
UID:1319-1476957600-1476957600@jonesboroga-archived.com
SUMMARY:Oct 20\, 2016 10:00 AM
DESCRIPTION:10/20/2016 10:00 AM
URL:https://jonesboroga-archived.com/meeting/oct-20-2016-1000-am/
LOCATION:Jonesboro Police Department
CATEGORIES:City Council
END:VEVENT
BEGIN:VEVENT
DTSTART;VALUE=DATE:20161017
DTEND;VALUE=DATE:20161018
DTSTAMP:20260426T042218
CREATED:20250521T072425Z
LAST-MODIFIED:20250714T034619Z
UID:1050-1476727200-1476727200@jonesboroga-archived.com
SUMMARY:Oct 17\, 2016 06:00 PM
DESCRIPTION:10/17/2016 6:00 PM
URL:https://jonesboroga-archived.com/meeting/oct-17-2016-0600-pm/
LOCATION:Jonesboro Housing Authority
CATEGORIES:Jonesboro Housing Authority
END:VEVENT
BEGIN:VEVENT
DTSTART;VALUE=DATE:20161017
DTEND;VALUE=DATE:20161018
DTSTAMP:20260426T042218
CREATED:20250521T072227Z
LAST-MODIFIED:20250714T034200Z
UID:979-1476725400-1476725400@jonesboroga-archived.com
SUMMARY:Oct 17\, 2016 05:30 PM
DESCRIPTION:10/17/2016 5:30 PM
URL:https://jonesboroga-archived.com/meeting/oct-17-2016-0530-pm/
LOCATION:Jonesboro City Hall
CATEGORIES:Jonesboro Historic Preservation Commission
END:VEVENT
BEGIN:VEVENT
DTSTART;VALUE=DATE:20161010
DTEND;VALUE=DATE:20161011
DTSTAMP:20260426T042218
CREATED:20250521T073212Z
LAST-MODIFIED:20250714T064052Z
UID:1312-1476122400-1476122400@jonesboroga-archived.com
SUMMARY:Oct 10\, 2016 06:00 PM
DESCRIPTION:10/10/2016 6:00 PM
URL:https://jonesboroga-archived.com/meeting/oct-10-2016-0600-pm/
LOCATION:Jonesboro Police Department
CATEGORIES:City Council
END:VEVENT
BEGIN:VEVENT
DTSTART;VALUE=DATE:20161006
DTEND;VALUE=DATE:20161007
DTSTAMP:20260426T042218
CREATED:20250521T071959Z
LAST-MODIFIED:20250714T064454Z
UID:887-1475776800-1475776800@jonesboroga-archived.com
SUMMARY:Oct 06\, 2016 06:00 PM
DESCRIPTION:10/6/2016 6:00 PM
URL:https://jonesboroga-archived.com/meeting/oct-06-2016-0600-pm/
LOCATION:Jonesboro Police Department
CATEGORIES:Downtown Development Authority
END:VEVENT
BEGIN:VEVENT
DTSTART;VALUE=DATE:20161003
DTEND;VALUE=DATE:20161004
DTSTAMP:20260426T042218
CREATED:20250521T065932Z
LAST-MODIFIED:20250714T064052Z
UID:166-1475517600-1475517600@jonesboroga-archived.com
SUMMARY:Oct 03\, 2016 06:00 PM
DESCRIPTION:10/3/2016 6:00 PM
URL:https://jonesboroga-archived.com/meeting/oct-03-2016-0600-pm/
LOCATION:Jonesboro Police Department
CATEGORIES:City Council
END:VEVENT
BEGIN:VEVENT
DTSTART;VALUE=DATE:20160920
DTEND;VALUE=DATE:20160921
DTSTAMP:20260426T042218
CREATED:20250521T072425Z
LAST-MODIFIED:20250714T034619Z
UID:1049-1474394400-1474394400@jonesboroga-archived.com
SUMMARY:Sep 20\, 2016 06:00 PM
DESCRIPTION:9/20/2016 6:00 PM
URL:https://jonesboroga-archived.com/meeting/sep-20-2016-0600-pm/
LOCATION:Jonesboro Housing Authority
CATEGORIES:Jonesboro Housing Authority
END:VEVENT
END:VCALENDAR