BEGIN:VCALENDAR
VERSION:2.0
PRODID:-//City of Jonesboro - GA - ECPv6.13.2.1//NONSGML v1.0//EN
CALSCALE:GREGORIAN
METHOD:PUBLISH
X-WR-CALNAME:City of Jonesboro - GA
X-ORIGINAL-URL:https://jonesboroga-archived.com
X-WR-CALDESC:Events for City of Jonesboro - GA
REFRESH-INTERVAL;VALUE=DURATION:PT1H
X-Robots-Tag:noindex
X-PUBLISHED-TTL:PT1H
BEGIN:VTIMEZONE
TZID:UTC
BEGIN:STANDARD
TZOFFSETFROM:+0000
TZOFFSETTO:+0000
TZNAME:UTC
DTSTART:20170101T000000
END:STANDARD
END:VTIMEZONE
BEGIN:VEVENT
DTSTART;VALUE=DATE:20180424
DTEND;VALUE=DATE:20180425
DTSTAMP:20260425T102341
CREATED:20250521T072450Z
LAST-MODIFIED:20250714T034731Z
UID:1066-1524592800-1524592800@jonesboroga-archived.com
SUMMARY:Apr 24\, 2018 06:00 PM
DESCRIPTION:4/24/2018 6:00 PM
URL:https://jonesboroga-archived.com/meeting/apr-24-2018-0600-pm/
LOCATION:Jonesboro Housing Authority
CATEGORIES:Jonesboro Housing Authority
END:VEVENT
BEGIN:VEVENT
DTSTART;VALUE=DATE:20180416
DTEND;VALUE=DATE:20180417
DTSTAMP:20260425T102341
CREATED:20250521T072119Z
LAST-MODIFIED:20250714T064742Z
UID:937-1523899800-1523899800@jonesboroga-archived.com
SUMMARY:Apr 16\, 2018 05:30 PM
DESCRIPTION:4/16/2018 5:30 PM
URL:https://jonesboroga-archived.com/meeting/apr-16-2018-0530-pm/
LOCATION:Jonesboro City Hall
CATEGORIES:Jonesboro Historic Preservation Commission
END:VEVENT
BEGIN:VEVENT
DTSTART;VALUE=DATE:20180412
DTEND;VALUE=DATE:20180413
DTSTAMP:20260425T102341
CREATED:20250521T072119Z
LAST-MODIFIED:20250714T064742Z
UID:936-1523556000-1523556000@jonesboroga-archived.com
SUMMARY:Apr 12\, 2018 06:00 PM
DESCRIPTION:4/12/2018 6:00 PM
URL:https://jonesboroga-archived.com/meeting/apr-12-2018-0600-pm/
LOCATION:Jonesboro Police Department
CATEGORIES:Downtown Development Authority
END:VEVENT
BEGIN:VEVENT
DTSTART;VALUE=DATE:20180409
DTEND;VALUE=DATE:20180410
DTSTAMP:20260425T102341
CREATED:20250521T072109Z
LAST-MODIFIED:20250714T064727Z
UID:930-1523296800-1523296800@jonesboroga-archived.com
SUMMARY:Apr 09\, 2018 06:00 PM
DESCRIPTION:4/9/2018 6:00 PM
URL:https://jonesboroga-archived.com/meeting/apr-09-2018-0600-pm/
LOCATION:Jonesboro Police Department
CATEGORIES:City Council
END:VEVENT
BEGIN:VEVENT
DTSTART;VALUE=DATE:20180402
DTEND;VALUE=DATE:20180403
DTSTAMP:20260425T102341
CREATED:20250521T072109Z
LAST-MODIFIED:20250714T064710Z
UID:929-1522692000-1522692000@jonesboroga-archived.com
SUMMARY:Apr 02\, 2018 06:00 PM
DESCRIPTION:4/2/2018 6:00 PM
URL:https://jonesboroga-archived.com/meeting/apr-02-2018-0600-pm/
LOCATION:Jonesboro Police Department
CATEGORIES:City Council
END:VEVENT
BEGIN:VEVENT
DTSTART;VALUE=DATE:20180322
DTEND;VALUE=DATE:20180323
DTSTAMP:20260425T102341
CREATED:20250521T073354Z
LAST-MODIFIED:20250714T064742Z
UID:1377-1521736200-1521736200@jonesboroga-archived.com
SUMMARY:Mar 22\, 2018 04:30 PM
DESCRIPTION:3/22/2018 4:30 PM
URL:https://jonesboroga-archived.com/meeting/mar-22-2018-0430-pm/
LOCATION:Jonesboro Police Department
CATEGORIES:Downtown Development Authority
END:VEVENT
BEGIN:VEVENT
DTSTART;VALUE=DATE:20180322
DTEND;VALUE=DATE:20180323
DTSTAMP:20260425T102341
CREATED:20250521T072119Z
LAST-MODIFIED:20250714T064727Z
UID:935-1521723600-1521723600@jonesboroga-archived.com
SUMMARY:Mar 22\, 2018 01:00 PM
DESCRIPTION:3/22/2018 1:00 PM
URL:https://jonesboroga-archived.com/meeting/mar-22-2018-0100-pm/
LOCATION:Jonesboro Police Department
CATEGORIES:City Council
END:VEVENT
BEGIN:VEVENT
DTSTART;VALUE=DATE:20180320
DTEND;VALUE=DATE:20180321
DTSTAMP:20260425T102341
CREATED:20250521T072450Z
LAST-MODIFIED:20250714T034731Z
UID:1067-1521568800-1521568800@jonesboroga-archived.com
SUMMARY:Mar 20\, 2018 06:00 PM
DESCRIPTION:3/20/2018 6:00 PM
URL:https://jonesboroga-archived.com/meeting/mar-20-2018-0600-pm/
LOCATION:Jonesboro Housing Authority
CATEGORIES:Jonesboro Housing Authority
END:VEVENT
BEGIN:VEVENT
DTSTART;VALUE=DATE:20180312
DTEND;VALUE=DATE:20180313
DTSTAMP:20260425T102341
CREATED:20250521T072109Z
LAST-MODIFIED:20250714T064710Z
UID:928-1520877600-1520877600@jonesboroga-archived.com
SUMMARY:Mar 12\, 2018 06:00 PM
DESCRIPTION:3/12/2018 6:00 PM
URL:https://jonesboroga-archived.com/meeting/mar-12-2018-0600-pm/
LOCATION:Jonesboro Police Department
CATEGORIES:City Council
END:VEVENT
BEGIN:VEVENT
DTSTART;VALUE=DATE:20180305
DTEND;VALUE=DATE:20180306
DTSTAMP:20260425T102341
CREATED:20250521T072101Z
LAST-MODIFIED:20250714T064710Z
UID:927-1520272800-1520272800@jonesboroga-archived.com
SUMMARY:Mar 05\, 2018 06:00 PM
DESCRIPTION:3/5/2018 6:00 PM
URL:https://jonesboroga-archived.com/meeting/mar-05-2018-0600-pm/
LOCATION:Jonesboro Police Department
CATEGORIES:City Council
END:VEVENT
BEGIN:VEVENT
DTSTART;VALUE=DATE:20180222
DTEND;VALUE=DATE:20180223
DTSTAMP:20260425T102341
CREATED:20250521T072119Z
LAST-MODIFIED:20250714T064727Z
UID:933-1519290000-1519290000@jonesboroga-archived.com
SUMMARY:Feb 22\, 2018 09:00 AM
DESCRIPTION:2/22/2018 9:00 AM
URL:https://jonesboroga-archived.com/meeting/feb-22-2018-0900-am/
LOCATION:The Magnolia House & Garden
CATEGORIES:City Council
END:VEVENT
BEGIN:VEVENT
DTSTART;VALUE=DATE:20180220
DTEND;VALUE=DATE:20180221
DTSTAMP:20260425T102341
CREATED:20250521T072450Z
LAST-MODIFIED:20250714T034731Z
UID:1065-1519149600-1519149600@jonesboroga-archived.com
SUMMARY:Feb 20\, 2018 06:00 PM
DESCRIPTION:2/20/2018 6:00 PM
URL:https://jonesboroga-archived.com/meeting/feb-20-2018-0600-pm/
LOCATION:Jonesboro Housing Authority
CATEGORIES:Jonesboro Housing Authority
END:VEVENT
BEGIN:VEVENT
DTSTART;VALUE=DATE:20180219
DTEND;VALUE=DATE:20180220
DTSTAMP:20260425T102341
CREATED:20250521T072244Z
LAST-MODIFIED:20250714T064941Z
UID:987-1519061400-1519061400@jonesboroga-archived.com
SUMMARY:Feb 19\, 2018 05:30 PM
DESCRIPTION:2/19/2018 5:30 PM
URL:https://jonesboroga-archived.com/meeting/feb-19-2018-0530-pm/
LOCATION:Jonesboro City Hall
CATEGORIES:Jonesboro Historic Preservation Commission
END:VEVENT
BEGIN:VEVENT
DTSTART;VALUE=DATE:20180219
DTEND;VALUE=DATE:20180220
DTSTAMP:20260425T102341
CREATED:20250521T072119Z
LAST-MODIFIED:20250714T064742Z
UID:938-1519059600-1519059600@jonesboroga-archived.com
SUMMARY:Feb 19\, 2018 05:00 PM
DESCRIPTION:2/19/2018 5:00 PM
URL:https://jonesboroga-archived.com/meeting/feb-19-2018-0500-pm/
LOCATION:Jonesboro City Hall
CATEGORIES:Jonesboro Historic Preservation Commission
END:VEVENT
BEGIN:VEVENT
DTSTART;VALUE=DATE:20180212
DTEND;VALUE=DATE:20180213
DTSTAMP:20260425T102341
CREATED:20250521T072101Z
LAST-MODIFIED:20250714T064710Z
UID:926-1518458400-1518458400@jonesboroga-archived.com
SUMMARY:Feb 12\, 2018 06:00 PM
DESCRIPTION:2/12/2018 6:00 PM
URL:https://jonesboroga-archived.com/meeting/feb-12-2018-0600-pm/
LOCATION:Jonesboro Police Department
CATEGORIES:City Council
END:VEVENT
BEGIN:VEVENT
DTSTART;VALUE=DATE:20180205
DTEND;VALUE=DATE:20180206
DTSTAMP:20260425T102341
CREATED:20250521T072101Z
LAST-MODIFIED:20250714T064710Z
UID:925-1517853600-1517853600@jonesboroga-archived.com
SUMMARY:Feb 05\, 2018 06:00 PM
DESCRIPTION:2/5/2018 6:00 PM
URL:https://jonesboroga-archived.com/meeting/feb-05-2018-0600-pm/
LOCATION:Jonesboro Police Department
CATEGORIES:City Council
END:VEVENT
BEGIN:VEVENT
DTSTART;VALUE=DATE:20180131
DTEND;VALUE=DATE:20180201
DTSTAMP:20260425T102341
CREATED:20250521T072244Z
LAST-MODIFIED:20250714T034230Z
UID:986-1517419800-1517419800@jonesboroga-archived.com
SUMMARY:Jan 31\, 2018 05:30 PM
DESCRIPTION:1/31/2018 5:30 PM
URL:https://jonesboroga-archived.com/meeting/jan-31-2018-0530-pm/
LOCATION:Jonesboro City Hall
CATEGORIES:Jonesboro Historic Preservation Commission
END:VEVENT
BEGIN:VEVENT
DTSTART;VALUE=DATE:20180116
DTEND;VALUE=DATE:20180117
DTSTAMP:20260425T102341
CREATED:20250521T072450Z
LAST-MODIFIED:20250714T034731Z
UID:1064-1516125600-1516125600@jonesboroga-archived.com
SUMMARY:Jan 16\, 2018 06:00 PM
DESCRIPTION:1/16/2018 6:00 PM
URL:https://jonesboroga-archived.com/meeting/jan-16-2018-0600-pm/
LOCATION:Jonesboro Housing Authority
CATEGORIES:Jonesboro Housing Authority
END:VEVENT
BEGIN:VEVENT
DTSTART;VALUE=DATE:20180108
DTEND;VALUE=DATE:20180109
DTSTAMP:20260425T102341
CREATED:20250521T072100Z
LAST-MODIFIED:20250714T064654Z
UID:924-1515434400-1515434400@jonesboroga-archived.com
SUMMARY:Jan 08\, 2018 06:00 PM
DESCRIPTION:1/8/2018 6:00 PM
URL:https://jonesboroga-archived.com/meeting/jan-08-2018-0600-pm/
LOCATION:Jonesboro Police Department
CATEGORIES:City Council
END:VEVENT
BEGIN:VEVENT
DTSTART;VALUE=DATE:20171219
DTEND;VALUE=DATE:20171220
DTSTAMP:20260425T102341
CREATED:20250521T072450Z
LAST-MODIFIED:20250714T034731Z
UID:1063-1513706400-1513706400@jonesboroga-archived.com
SUMMARY:Dec 19\, 2017 06:00 PM
DESCRIPTION:12/19/2017 6:00 PM
URL:https://jonesboroga-archived.com/meeting/dec-19-2017-0600-pm/
LOCATION:Jonesboro Housing Authority
CATEGORIES:Jonesboro Housing Authority
END:VEVENT
BEGIN:VEVENT
DTSTART;VALUE=DATE:20171211
DTEND;VALUE=DATE:20171212
DTSTAMP:20260425T102341
CREATED:20250521T072100Z
LAST-MODIFIED:20250714T064654Z
UID:923-1513015200-1513015200@jonesboroga-archived.com
SUMMARY:Dec 11\, 2017 06:00 PM
DESCRIPTION:12/11/2017 6:00 PM
URL:https://jonesboroga-archived.com/meeting/dec-11-2017-0600-pm/
LOCATION:Jonesboro Police Department
CATEGORIES:City Council
END:VEVENT
BEGIN:VEVENT
DTSTART;VALUE=DATE:20171204
DTEND;VALUE=DATE:20171205
DTSTAMP:20260425T102341
CREATED:20250521T072051Z
LAST-MODIFIED:20250714T064654Z
UID:922-1512410400-1512410400@jonesboroga-archived.com
SUMMARY:Dec 04\, 2017 06:00 PM
DESCRIPTION:12/4/2017 6:00 PM
URL:https://jonesboroga-archived.com/meeting/dec-04-2017-0600-pm/
LOCATION:Jonesboro Police Department
CATEGORIES:City Council
END:VEVENT
BEGIN:VEVENT
DTSTART;VALUE=DATE:20171120
DTEND;VALUE=DATE:20171121
DTSTAMP:20260425T102341
CREATED:20250521T072051Z
LAST-MODIFIED:20250714T064654Z
UID:921-1511200800-1511200800@jonesboroga-archived.com
SUMMARY:Nov 20\, 2017 06:00 PM
DESCRIPTION:11/20/2017 6:00 PM
URL:https://jonesboroga-archived.com/meeting/nov-20-2017-0600-pm/
LOCATION:Jonesboro Police Department
CATEGORIES:City Council
END:VEVENT
BEGIN:VEVENT
DTSTART;VALUE=DATE:20171120
DTEND;VALUE=DATE:20171121
DTSTAMP:20260425T102341
CREATED:20250521T072236Z
LAST-MODIFIED:20250714T064941Z
UID:984-1511199000-1511199000@jonesboroga-archived.com
SUMMARY:Nov 20\, 2017 05:30 PM
DESCRIPTION:11/20/2017 5:30 PM
URL:https://jonesboroga-archived.com/meeting/nov-20-2017-0530-pm/
LOCATION:Jonesboro City Hall
CATEGORIES:Jonesboro Historic Preservation Commission
END:VEVENT
BEGIN:VEVENT
DTSTART;VALUE=DATE:20171113
DTEND;VALUE=DATE:20171114
DTSTAMP:20260425T102341
CREATED:20250521T072051Z
LAST-MODIFIED:20250714T064637Z
UID:919-1510596000-1510596000@jonesboroga-archived.com
SUMMARY:Nov 13\, 2017 06:00 PM
DESCRIPTION:11/13/2017 6:00 PM
URL:https://jonesboroga-archived.com/meeting/nov-13-2017-0600-pm/
LOCATION:Jonesboro Police Department
CATEGORIES:City Council
END:VEVENT
BEGIN:VEVENT
DTSTART;VALUE=DATE:20171106
DTEND;VALUE=DATE:20171107
DTSTAMP:20260425T102341
CREATED:20250521T072051Z
LAST-MODIFIED:20250714T064637Z
UID:918-1509991200-1509991200@jonesboroga-archived.com
SUMMARY:Nov 06\, 2017 06:00 PM
DESCRIPTION:11/6/2017 6:00 PM
URL:https://jonesboroga-archived.com/meeting/nov-06-2017-0600-pm/
LOCATION:Jonesboro Police Department
CATEGORIES:City Council
END:VEVENT
BEGIN:VEVENT
DTSTART;VALUE=DATE:20171102
DTEND;VALUE=DATE:20171103
DTSTAMP:20260425T102341
CREATED:20250521T072051Z
LAST-MODIFIED:20250714T064654Z
UID:920-1509645600-1509645600@jonesboroga-archived.com
SUMMARY:Nov 02\, 2017 06:00 PM
DESCRIPTION:11/2/2017 6:00 PM
URL:https://jonesboroga-archived.com/meeting/nov-02-2017-0600-pm/
LOCATION:Jonesboro Police Department
CATEGORIES:Downtown Development Authority
END:VEVENT
BEGIN:VEVENT
DTSTART;VALUE=DATE:20171018
DTEND;VALUE=DATE:20171019
DTSTAMP:20260425T102341
CREATED:20250521T073328Z
LAST-MODIFIED:20250714T064637Z
UID:1358-1508331600-1508331600@jonesboroga-archived.com
SUMMARY:Oct 18\, 2017 01:00 PM
DESCRIPTION:10/18/2017 1:00 PM
URL:https://jonesboroga-archived.com/meeting/oct-18-2017-0100-pm/
LOCATION:Jonesboro Police Department
CATEGORIES:City Council
END:VEVENT
BEGIN:VEVENT
DTSTART;VALUE=DATE:20171017
DTEND;VALUE=DATE:20171018
DTSTAMP:20260425T102341
CREATED:20250521T072442Z
LAST-MODIFIED:20250714T034706Z
UID:1062-1508263200-1508263200@jonesboroga-archived.com
SUMMARY:Oct 17\, 2017 06:00 PM
DESCRIPTION:10/17/2017 6:00 PM
URL:https://jonesboroga-archived.com/meeting/oct-17-2017-0600-pm/
LOCATION:Jonesboro Housing Authority
CATEGORIES:Jonesboro Housing Authority
END:VEVENT
BEGIN:VEVENT
DTSTART;VALUE=DATE:20171009
DTEND;VALUE=DATE:20171010
DTSTAMP:20260425T102341
CREATED:20250521T072042Z
LAST-MODIFIED:20250714T064637Z
UID:917-1507568400-1507568400@jonesboroga-archived.com
SUMMARY:Oct 09\, 2017 05:00 PM
DESCRIPTION:10/9/2017 5:00 PM
URL:https://jonesboroga-archived.com/meeting/oct-09-2017-0500-pm/
LOCATION:Jonesboro Police Department
CATEGORIES:City Council
END:VEVENT
END:VCALENDAR