BEGIN:VCALENDAR
VERSION:2.0
PRODID:-//City of Jonesboro - GA - ECPv6.13.2.1//NONSGML v1.0//EN
CALSCALE:GREGORIAN
METHOD:PUBLISH
X-ORIGINAL-URL:https://jonesboroga-archived.com
X-WR-CALDESC:Events for City of Jonesboro - GA
REFRESH-INTERVAL;VALUE=DURATION:PT1H
X-Robots-Tag:noindex
X-PUBLISHED-TTL:PT1H
BEGIN:VTIMEZONE
TZID:UTC
BEGIN:STANDARD
TZOFFSETFROM:+0000
TZOFFSETTO:+0000
TZNAME:UTC
DTSTART:20180101T000000
END:STANDARD
END:VTIMEZONE
BEGIN:VEVENT
DTSTART;VALUE=DATE:20181112
DTEND;VALUE=DATE:20181113
DTSTAMP:20260424T224106
CREATED:20250521T072146Z
LAST-MODIFIED:20250714T064848Z
UID:954-1542045600-1542045600@jonesboroga-archived.com
SUMMARY:Nov 12\, 2018 06:00 PM
DESCRIPTION:11/12/2018 6:00 PM
URL:https://jonesboroga-archived.com/meeting/nov-12-2018-0600-pm/
LOCATION:Jonesboro Police Department
CATEGORIES:City Council
END:VEVENT
BEGIN:VEVENT
DTSTART;VALUE=DATE:20181107
DTEND;VALUE=DATE:20181108
DTSTAMP:20260424T224106
CREATED:20250521T072253Z
LAST-MODIFIED:20250714T064958Z
UID:991-1541608200-1541608200@jonesboroga-archived.com
SUMMARY:Nov 07\, 2018 04:30 PM
DESCRIPTION:11/7/2018 4:30 PM
URL:https://jonesboroga-archived.com/meeting/nov-07-2018-0430-pm/
LOCATION:Jonesboro City Hall
CATEGORIES:Design Review Commission
END:VEVENT
BEGIN:VEVENT
DTSTART;VALUE=DATE:20181105
DTEND;VALUE=DATE:20181106
DTSTAMP:20260424T224106
CREATED:20250521T072146Z
LAST-MODIFIED:20250714T064831Z
UID:952-1541440800-1541440800@jonesboroga-archived.com
SUMMARY:Nov 05\, 2018 06:00 PM
DESCRIPTION:11/5/2018 6:00 PM
URL:https://jonesboroga-archived.com/meeting/nov-05-2018-0600-pm/
LOCATION:Jonesboro Police Department
CATEGORIES:City Council
END:VEVENT
BEGIN:VEVENT
DTSTART;VALUE=DATE:20181022
DTEND;VALUE=DATE:20181023
DTSTAMP:20260424T224106
CREATED:20250521T073437Z
LAST-MODIFIED:20250714T064848Z
UID:1398-1540227600-1540227600@jonesboroga-archived.com
SUMMARY:Oct 22\, 2018 05:00 PM
DESCRIPTION:10/22/2018 5:00 PM
URL:https://jonesboroga-archived.com/meeting/oct-22-2018-0500-pm/
LOCATION:Jonesboro Police Department
CATEGORIES:City Council
END:VEVENT
BEGIN:VEVENT
DTSTART;VALUE=DATE:20181017
DTEND;VALUE=DATE:20181018
DTSTAMP:20260424T224106
CREATED:20250521T073429Z
LAST-MODIFIED:20250714T064848Z
UID:1397-1539784800-1539784800@jonesboroga-archived.com
SUMMARY:Oct 17\, 2018 02:00 PM
DESCRIPTION:10/17/2018 2:00 PM
URL:https://jonesboroga-archived.com/meeting/oct-17-2018-0200-pm/
LOCATION:Jonesboro Police Department
CATEGORIES:City Council
END:VEVENT
BEGIN:VEVENT
DTSTART;VALUE=DATE:20181016
DTEND;VALUE=DATE:20181017
DTSTAMP:20260424T224106
CREATED:20250521T072507Z
LAST-MODIFIED:20250714T034818Z
UID:1073-1539712800-1539712800@jonesboroga-archived.com
SUMMARY:Oct 16\, 2018 06:00 PM
DESCRIPTION:10/16/2018 6:00 PM
URL:https://jonesboroga-archived.com/meeting/oct-16-2018-0600-pm/
LOCATION:Jonesboro Housing Authority
CATEGORIES:Jonesboro Housing Authority
END:VEVENT
BEGIN:VEVENT
DTSTART;VALUE=DATE:20181015
DTEND;VALUE=DATE:20181016
DTSTAMP:20260424T224106
CREATED:20250521T072244Z
LAST-MODIFIED:20250714T064958Z
UID:989-1539624600-1539624600@jonesboroga-archived.com
SUMMARY:Oct 15\, 2018 05:30 PM
DESCRIPTION:10/15/2018 5:30 PM
URL:https://jonesboroga-archived.com/meeting/oct-15-2018-0530-pm/
LOCATION:Jonesboro City Hall
CATEGORIES:Jonesboro Historic Preservation Commission
END:VEVENT
BEGIN:VEVENT
DTSTART;VALUE=DATE:20181008
DTEND;VALUE=DATE:20181009
DTSTAMP:20260424T224106
CREATED:20250521T072146Z
LAST-MODIFIED:20250714T064831Z
UID:951-1539021600-1539021600@jonesboroga-archived.com
SUMMARY:Oct 08\, 2018 06:00 PM
DESCRIPTION:10/8/2018 6:00 PM
URL:https://jonesboroga-archived.com/meeting/oct-08-2018-0600-pm/
LOCATION:Jonesboro Police Department
CATEGORIES:City Council
END:VEVENT
BEGIN:VEVENT
DTSTART;VALUE=DATE:20181001
DTEND;VALUE=DATE:20181002
DTSTAMP:20260424T224106
CREATED:20250521T072145Z
LAST-MODIFIED:20250714T064831Z
UID:950-1538416800-1538416800@jonesboroga-archived.com
SUMMARY:Oct 01\, 2018 06:00 PM
DESCRIPTION:10/1/2018 6:00 PM
URL:https://jonesboroga-archived.com/meeting/oct-01-2018-0600-pm/
LOCATION:Jonesboro Police Department
CATEGORIES:City Council
END:VEVENT
BEGIN:VEVENT
DTSTART;VALUE=DATE:20181001
DTEND;VALUE=DATE:20181002
DTSTAMP:20260424T224106
CREATED:20250521T072146Z
LAST-MODIFIED:20250714T064831Z
UID:953-1538413200-1538413200@jonesboroga-archived.com
SUMMARY:Oct 01\, 2018 05:00 PM
DESCRIPTION:10/1/2018 5:00 PM
URL:https://jonesboroga-archived.com/meeting/oct-01-2018-0500-pm/
LOCATION:Jonesboro Police Department
CATEGORIES:City Council
END:VEVENT
BEGIN:VEVENT
DTSTART;VALUE=DATE:20180927
DTEND;VALUE=DATE:20180928
DTSTAMP:20260424T224106
CREATED:20250521T072459Z
LAST-MODIFIED:20250714T034757Z
UID:1072-1538071200-1538071200@jonesboroga-archived.com
SUMMARY:Sep 27\, 2018 06:00 PM
DESCRIPTION:9/27/2018 6:00 PM
URL:https://jonesboroga-archived.com/meeting/sep-27-2018-0600-pm/
LOCATION:Jonesboro Housing Authority
CATEGORIES:Jonesboro Housing Authority
END:VEVENT
BEGIN:VEVENT
DTSTART;VALUE=DATE:20180920
DTEND;VALUE=DATE:20180921
DTSTAMP:20260424T224106
CREATED:20250521T073419Z
LAST-MODIFIED:20250714T064831Z
UID:1392-1537437600-1537437600@jonesboroga-archived.com
SUMMARY:Sep 20\, 2018 10:00 AM
DESCRIPTION:9/20/2018 10:00 AM
URL:https://jonesboroga-archived.com/meeting/sep-20-2018-1000-am/
LOCATION:Jonesboro Police Department
CATEGORIES:City Council
END:VEVENT
BEGIN:VEVENT
DTSTART;VALUE=DATE:20180917
DTEND;VALUE=DATE:20180918
DTSTAMP:20260424T224106
CREATED:20250521T072244Z
LAST-MODIFIED:20250714T064941Z
UID:988-1537205400-1537205400@jonesboroga-archived.com
SUMMARY:Sep 17\, 2018 05:30 PM
DESCRIPTION:9/17/2018 5:30 PM
URL:https://jonesboroga-archived.com/meeting/sep-17-2018-0530-pm/
LOCATION:Jonesboro City Hall
CATEGORIES:Jonesboro Historic Preservation Commission
END:VEVENT
BEGIN:VEVENT
DTSTART;VALUE=DATE:20180910
DTEND;VALUE=DATE:20180911
DTSTAMP:20260424T224106
CREATED:20250521T072137Z
LAST-MODIFIED:20250714T064815Z
UID:948-1536602400-1536602400@jonesboroga-archived.com
SUMMARY:Sep 10\, 2018 06:00 PM
DESCRIPTION:9/10/2018 6:00 PM
URL:https://jonesboroga-archived.com/meeting/sep-10-2018-0600-pm/
LOCATION:Jonesboro Police Department
CATEGORIES:City Council
END:VEVENT
BEGIN:VEVENT
DTSTART;VALUE=DATE:20180906
DTEND;VALUE=DATE:20180907
DTSTAMP:20260424T224106
CREATED:20250521T072137Z
LAST-MODIFIED:20250714T064815Z
UID:949-1536256800-1536256800@jonesboroga-archived.com
SUMMARY:Sep 06\, 2018 06:00 PM
DESCRIPTION:9/6/2018 6:00 PM
URL:https://jonesboroga-archived.com/meeting/sep-06-2018-0600-pm/
LOCATION:Jonesboro Police Department
CATEGORIES:Downtown Development Authority
END:VEVENT
BEGIN:VEVENT
DTSTART;VALUE=DATE:20180905
DTEND;VALUE=DATE:20180906
DTSTAMP:20260424T224106
CREATED:20250521T072253Z
LAST-MODIFIED:20250714T064958Z
UID:992-1536165000-1536165000@jonesboroga-archived.com
SUMMARY:Sep 05\, 2018 04:30 PM
DESCRIPTION:9/5/2018 4:30 PM
URL:https://jonesboroga-archived.com/meeting/sep-05-2018-0430-pm/
LOCATION:Jonesboro City Hall
CATEGORIES:Design Review Commission
END:VEVENT
BEGIN:VEVENT
DTSTART;VALUE=DATE:20180821
DTEND;VALUE=DATE:20180822
DTSTAMP:20260424T224106
CREATED:20250521T072459Z
LAST-MODIFIED:20250714T034757Z
UID:1071-1534874400-1534874400@jonesboroga-archived.com
SUMMARY:Aug 21\, 2018 06:00 PM
DESCRIPTION:8/21/2018 6:00 PM
URL:https://jonesboroga-archived.com/meeting/aug-21-2018-0600-pm/
LOCATION:Jonesboro Housing Authority
CATEGORIES:Jonesboro Housing Authority
END:VEVENT
BEGIN:VEVENT
DTSTART;VALUE=DATE:20180817
DTEND;VALUE=DATE:20180818
DTSTAMP:20260424T224106
CREATED:20250521T072137Z
LAST-MODIFIED:20250714T064815Z
UID:946-1534494600-1534494600@jonesboroga-archived.com
SUMMARY:Aug 17\, 2018 08:30 AM
DESCRIPTION:8/17/2018 8:30 AM
URL:https://jonesboroga-archived.com/meeting/aug-17-2018-0830-am/
LOCATION:Lake Spivey Country Club
CATEGORIES:City Council
END:VEVENT
BEGIN:VEVENT
DTSTART;VALUE=DATE:20180813
DTEND;VALUE=DATE:20180814
DTSTAMP:20260424T224106
CREATED:20250521T072137Z
LAST-MODIFIED:20250714T064815Z
UID:945-1534183200-1534183200@jonesboroga-archived.com
SUMMARY:Aug 13\, 2018 06:00 PM
DESCRIPTION:8/13/2018 6:00 PM
URL:https://jonesboroga-archived.com/meeting/aug-13-2018-0600-pm/
LOCATION:Jonesboro Police Department
CATEGORIES:City Council
END:VEVENT
BEGIN:VEVENT
DTSTART;VALUE=DATE:20180806
DTEND;VALUE=DATE:20180807
DTSTAMP:20260424T224106
CREATED:20250521T072136Z
LAST-MODIFIED:20250714T064815Z
UID:944-1533578400-1533578400@jonesboroga-archived.com
SUMMARY:Aug 06\, 2018 06:00 PM
DESCRIPTION:8/6/2018 6:00 PM
URL:https://jonesboroga-archived.com/meeting/aug-06-2018-0600-pm/
LOCATION:Jonesboro Police Department
CATEGORIES:City Council
END:VEVENT
BEGIN:VEVENT
DTSTART;VALUE=DATE:20180801
DTEND;VALUE=DATE:20180802
DTSTAMP:20260424T224106
CREATED:20250521T072253Z
LAST-MODIFIED:20250714T064958Z
UID:993-1533141000-1533141000@jonesboroga-archived.com
SUMMARY:Aug 01\, 2018 04:30 PM
DESCRIPTION:8/1/2018 4:30 PM
URL:https://jonesboroga-archived.com/meeting/aug-01-2018-0430-pm/
LOCATION:Jonesboro City Hall
CATEGORIES:Design Review Commission
END:VEVENT
BEGIN:VEVENT
DTSTART;VALUE=DATE:20180717
DTEND;VALUE=DATE:20180718
DTSTAMP:20260424T224106
CREATED:20250521T072458Z
LAST-MODIFIED:20250714T034757Z
UID:1070-1531850400-1531850400@jonesboroga-archived.com
SUMMARY:Jul 17\, 2018 06:00 PM
DESCRIPTION:7/17/2018 6:00 PM
URL:https://jonesboroga-archived.com/meeting/jul-17-2018-0600-pm/
LOCATION:Jonesboro Housing Authority
CATEGORIES:Jonesboro Housing Authority
END:VEVENT
BEGIN:VEVENT
DTSTART;VALUE=DATE:20180716
DTEND;VALUE=DATE:20180717
DTSTAMP:20260424T224106
CREATED:20250521T072211Z
LAST-MODIFIED:20250714T064926Z
UID:966-1531762200-1531762200@jonesboroga-archived.com
SUMMARY:Jul 16\, 2018 05:30 PM
DESCRIPTION:7/16/2018 5:30 PM
URL:https://jonesboroga-archived.com/meeting/jul-16-2018-0530-pm/
LOCATION:Jonesboro City Hall
CATEGORIES:Jonesboro Historic Preservation Commission
END:VEVENT
BEGIN:VEVENT
DTSTART;VALUE=DATE:20180709
DTEND;VALUE=DATE:20180710
DTSTAMP:20260424T224106
CREATED:20250521T072128Z
LAST-MODIFIED:20250714T064758Z
UID:943-1531159200-1531159200@jonesboroga-archived.com
SUMMARY:Jul 09\, 2018 06:00 PM
DESCRIPTION:7/9/2018 6:00 PM
URL:https://jonesboroga-archived.com/meeting/jul-09-2018-0600-pm/
LOCATION:Jonesboro Police Department
CATEGORIES:City Council
END:VEVENT
BEGIN:VEVENT
DTSTART;VALUE=DATE:20180705
DTEND;VALUE=DATE:20180706
DTSTAMP:20260424T224106
CREATED:20250521T072253Z
LAST-MODIFIED:20250714T065012Z
UID:994-1530808200-1530808200@jonesboroga-archived.com
SUMMARY:Jul 05\, 2018 04:30 PM
DESCRIPTION:7/5/2018 4:30 PM
URL:https://jonesboroga-archived.com/meeting/jul-05-2018-0430-pm/
LOCATION:Jonesboro City Hall
CATEGORIES:Design Review Commission
END:VEVENT
BEGIN:VEVENT
DTSTART;VALUE=DATE:20180702
DTEND;VALUE=DATE:20180703
DTSTAMP:20260424T224106
CREATED:20250521T072127Z
LAST-MODIFIED:20250714T064758Z
UID:942-1530554400-1530554400@jonesboroga-archived.com
SUMMARY:Jul 02\, 2018 06:00 PM
DESCRIPTION:7/2/2018 6:00 PM
URL:https://jonesboroga-archived.com/meeting/jul-02-2018-0600-pm/
LOCATION:Jonesboro Police Department
CATEGORIES:City Council
END:VEVENT
BEGIN:VEVENT
DTSTART;VALUE=DATE:20180619
DTEND;VALUE=DATE:20180620
DTSTAMP:20260424T224106
CREATED:20250521T072458Z
LAST-MODIFIED:20250714T034757Z
UID:1069-1529431200-1529431200@jonesboroga-archived.com
SUMMARY:Jun 19\, 2018 06:00 PM
DESCRIPTION:6/19/2018 6:00 PM
URL:https://jonesboroga-archived.com/meeting/jun-19-2018-0600-pm/
LOCATION:Jonesboro Housing Authority
CATEGORIES:Jonesboro Housing Authority
END:VEVENT
BEGIN:VEVENT
DTSTART;VALUE=DATE:20180618
DTEND;VALUE=DATE:20180619
DTSTAMP:20260424T224106
CREATED:20250521T072244Z
LAST-MODIFIED:20250714T064941Z
UID:985-1529343000-1529343000@jonesboroga-archived.com
SUMMARY:Jun 18\, 2018 05:30 PM
DESCRIPTION:6/18/2018 5:30 PM
URL:https://jonesboroga-archived.com/meeting/jun-18-2018-0530-pm/
LOCATION:Jonesboro City Hall
CATEGORIES:Jonesboro Historic Preservation Commission
END:VEVENT
BEGIN:VEVENT
DTSTART;VALUE=DATE:20180614
DTEND;VALUE=DATE:20180615
DTSTAMP:20260424T224106
CREATED:20250521T072301Z
LAST-MODIFIED:20250714T065012Z
UID:995-1528993800-1528993800@jonesboroga-archived.com
SUMMARY:Jun 14\, 2018 04:30 PM
DESCRIPTION:6/14/2018 4:30 PM
URL:https://jonesboroga-archived.com/meeting/jun-14-2018-0430-pm/
LOCATION:Jonesboro City Hall
CATEGORIES:Design Review Commission
END:VEVENT
BEGIN:VEVENT
DTSTART;VALUE=DATE:20180611
DTEND;VALUE=DATE:20180612
DTSTAMP:20260424T224106
CREATED:20250521T073411Z
LAST-MODIFIED:20250714T064758Z
UID:1384-1528740000-1528740000@jonesboroga-archived.com
SUMMARY:Jun 11\, 2018 06:00 PM
DESCRIPTION:6/11/2018 6:00 PM
URL:https://jonesboroga-archived.com/meeting/jun-11-2018-0600-pm/
LOCATION:Jonesboro Police Department
CATEGORIES:City Council
END:VEVENT
END:VCALENDAR