BEGIN:VCALENDAR
VERSION:2.0
PRODID:-//City of Jonesboro - GA - ECPv6.13.2.1//NONSGML v1.0//EN
CALSCALE:GREGORIAN
METHOD:PUBLISH
X-WR-CALNAME:City of Jonesboro - GA
X-ORIGINAL-URL:https://jonesboroga-archived.com
X-WR-CALDESC:Events for City of Jonesboro - GA
REFRESH-INTERVAL;VALUE=DURATION:PT1H
X-Robots-Tag:noindex
X-PUBLISHED-TTL:PT1H
BEGIN:VTIMEZONE
TZID:UTC
BEGIN:STANDARD
TZOFFSETFROM:+0000
TZOFFSETTO:+0000
TZNAME:UTC
DTSTART:20180101T000000
END:STANDARD
END:VTIMEZONE
BEGIN:VEVENT
DTSTART;VALUE=DATE:20190521
DTEND;VALUE=DATE:20190522
DTSTAMP:20260424T121611
CREATED:20250521T072516Z
LAST-MODIFIED:20250714T034841Z
UID:1078-1558461600-1558461600@jonesboroga-archived.com
SUMMARY:May 21\, 2019 06:00 PM
DESCRIPTION:5/21/2019 6:00 PM
URL:https://jonesboroga-archived.com/meeting/may-21-2019-0600-pm/
LOCATION:Jonesboro Housing Authority
CATEGORIES:Jonesboro Housing Authority
END:VEVENT
BEGIN:VEVENT
DTSTART;VALUE=DATE:20190520
DTEND;VALUE=DATE:20190521
DTSTAMP:20260424T121611
CREATED:20250521T072343Z
LAST-MODIFIED:20250714T065136Z
UID:1021-1558373400-1558373400@jonesboroga-archived.com
SUMMARY:May 20\, 2019 05:30 PM
DESCRIPTION:5/20/2019 5:30 PM
URL:https://jonesboroga-archived.com/meeting/may-20-2019-0530-pm/
LOCATION:Jonesboro City Hall
CATEGORIES:Jonesboro Historic Preservation Commission
END:VEVENT
BEGIN:VEVENT
DTSTART;VALUE=DATE:20190513
DTEND;VALUE=DATE:20190514
DTSTAMP:20260424T121611
CREATED:20250521T072335Z
LAST-MODIFIED:20250714T065120Z
UID:1018-1557770400-1557770400@jonesboroga-archived.com
SUMMARY:May 13\, 2019 06:00 PM
DESCRIPTION:5/13/2019 6:00 PM
URL:https://jonesboroga-archived.com/meeting/may-13-2019-0600-pm/
LOCATION:Jonesboro Police Department
CATEGORIES:City Council
END:VEVENT
BEGIN:VEVENT
DTSTART;VALUE=DATE:20190506
DTEND;VALUE=DATE:20190507
DTSTAMP:20260424T121611
CREATED:20250521T072335Z
LAST-MODIFIED:20250714T065119Z
UID:1017-1557165600-1557165600@jonesboroga-archived.com
SUMMARY:May 06\, 2019 06:00 PM
DESCRIPTION:5/6/2019 6:00 PM
URL:https://jonesboroga-archived.com/meeting/may-06-2019-0600-pm/
LOCATION:Jonesboro Police Department
CATEGORIES:City Council
END:VEVENT
BEGIN:VEVENT
DTSTART;VALUE=DATE:20190501
DTEND;VALUE=DATE:20190502
DTSTAMP:20260424T121611
CREATED:20250521T072302Z
LAST-MODIFIED:20250714T065012Z
UID:998-1556728200-1556728200@jonesboroga-archived.com
SUMMARY:May 01\, 2019 04:30 PM
DESCRIPTION:5/1/2019 4:30 PM
URL:https://jonesboroga-archived.com/meeting/may-01-2019-0430-pm/
LOCATION:Jonesboro City Hall
CATEGORIES:Design Review Commission
END:VEVENT
BEGIN:VEVENT
DTSTART;VALUE=DATE:20190418
DTEND;VALUE=DATE:20190419
DTSTAMP:20260424T121611
CREATED:20250521T072335Z
LAST-MODIFIED:20250714T065119Z
UID:1016-1555610400-1555610400@jonesboroga-archived.com
SUMMARY:Apr 18\, 2019 06:00 PM
DESCRIPTION:4/18/2019 6:00 PM
URL:https://jonesboroga-archived.com/meeting/apr-18-2019-0600-pm/
LOCATION:Jonesboro Police Department
CATEGORIES:Downtown Development Authority
END:VEVENT
BEGIN:VEVENT
DTSTART;VALUE=DATE:20190415
DTEND;VALUE=DATE:20190416
DTSTAMP:20260424T121611
CREATED:20250521T072327Z
LAST-MODIFIED:20250714T065104Z
UID:1011-1555349400-1555349400@jonesboroga-archived.com
SUMMARY:Apr 15\, 2019 05:30 PM
DESCRIPTION:4/15/2019 5:30 PM
URL:https://jonesboroga-archived.com/meeting/apr-15-2019-0530-pm/
LOCATION:Jonesboro City Hall
CATEGORIES:Jonesboro Historic Preservation Commission
END:VEVENT
BEGIN:VEVENT
DTSTART;VALUE=DATE:20190408
DTEND;VALUE=DATE:20190409
DTSTAMP:20260424T121611
CREATED:20250521T072327Z
LAST-MODIFIED:20250714T065104Z
UID:1014-1554746400-1554746400@jonesboroga-archived.com
SUMMARY:Apr 08\, 2019 06:00 PM
DESCRIPTION:4/8/2019 6:00 PM
URL:https://jonesboroga-archived.com/meeting/apr-08-2019-0600-pm/
LOCATION:Jonesboro Police Department
CATEGORIES:City Council
END:VEVENT
BEGIN:VEVENT
DTSTART;VALUE=DATE:20190403
DTEND;VALUE=DATE:20190404
DTSTAMP:20260424T121611
CREATED:20250521T072327Z
LAST-MODIFIED:20250714T065104Z
UID:1015-1554309000-1554309000@jonesboroga-archived.com
SUMMARY:Apr 03\, 2019 04:30 PM
DESCRIPTION:4/3/2019 4:30 PM
URL:https://jonesboroga-archived.com/meeting/apr-03-2019-0430-pm/
LOCATION:Jonesboro City Hall
CATEGORIES:Design Review Commission
END:VEVENT
BEGIN:VEVENT
DTSTART;VALUE=DATE:20190401
DTEND;VALUE=DATE:20190402
DTSTAMP:20260424T121611
CREATED:20250521T072327Z
LAST-MODIFIED:20250714T065104Z
UID:1013-1554141600-1554141600@jonesboroga-archived.com
SUMMARY:Apr 01\, 2019 06:00 PM
DESCRIPTION:4/1/2019 6:00 PM
URL:https://jonesboroga-archived.com/meeting/apr-01-2019-0600-pm/
LOCATION:Jonesboro Police Department
CATEGORIES:City Council
END:VEVENT
BEGIN:VEVENT
DTSTART;VALUE=DATE:20190316
DTEND;VALUE=DATE:20190317
DTSTAMP:20260424T121611
CREATED:20250521T072516Z
LAST-MODIFIED:20250714T034841Z
UID:1079-1552759200-1552759200@jonesboroga-archived.com
SUMMARY:Mar 16\, 2019 06:00 PM
DESCRIPTION:3/16/2019 6:00 PM
URL:https://jonesboroga-archived.com/meeting/mar-16-2019-0600-pm/
LOCATION:Jonesboro Housing Authority
CATEGORIES:Jonesboro Housing Authority
END:VEVENT
BEGIN:VEVENT
DTSTART;VALUE=DATE:20190312
DTEND;VALUE=DATE:20190313
DTSTAMP:20260424T121611
CREATED:20250521T072319Z
LAST-MODIFIED:20250714T065104Z
UID:1010-1552413600-1552413600@jonesboroga-archived.com
SUMMARY:Mar 12\, 2019 06:00 PM
DESCRIPTION:3/12/2019 6:00 PM
URL:https://jonesboroga-archived.com/meeting/mar-12-2019-0600-pm/
LOCATION:Jonesboro Police Department
CATEGORIES:Downtown Development Authority
END:VEVENT
BEGIN:VEVENT
DTSTART;VALUE=DATE:20190311
DTEND;VALUE=DATE:20190312
DTSTAMP:20260424T121611
CREATED:20250521T072318Z
LAST-MODIFIED:20250714T065046Z
UID:1007-1552327200-1552327200@jonesboroga-archived.com
SUMMARY:Mar 11\, 2019 06:00 PM
DESCRIPTION:3/11/2019 6:00 PM
URL:https://jonesboroga-archived.com/meeting/mar-11-2019-0600-pm/
LOCATION:Jonesboro Police Department
CATEGORIES:City Council
END:VEVENT
BEGIN:VEVENT
DTSTART;VALUE=DATE:20190307
DTEND;VALUE=DATE:20190308
DTSTAMP:20260424T121611
CREATED:20250521T073535Z
LAST-MODIFIED:20250714T065046Z
UID:1436-1551981600-1551981600@jonesboroga-archived.com
SUMMARY:Mar 07\, 2019 06:00 PM
DESCRIPTION:3/7/2019 6:00 PM
URL:https://jonesboroga-archived.com/meeting/mar-07-2019-0600-pm/
LOCATION:Jonesboro Police Department
CATEGORIES:Downtown Development Authority
END:VEVENT
BEGIN:VEVENT
DTSTART;VALUE=DATE:20190306
DTEND;VALUE=DATE:20190307
DTSTAMP:20260424T121611
CREATED:20250521T072301Z
LAST-MODIFIED:20250714T065012Z
UID:997-1551889800-1551889800@jonesboroga-archived.com
SUMMARY:Mar 06\, 2019 04:30 PM
DESCRIPTION:3/6/2019 4:30 PM
URL:https://jonesboroga-archived.com/meeting/mar-06-2019-0430-pm/
LOCATION:Jonesboro City Hall
CATEGORIES:Design Review Commission
END:VEVENT
BEGIN:VEVENT
DTSTART;VALUE=DATE:20190304
DTEND;VALUE=DATE:20190305
DTSTAMP:20260424T121611
CREATED:20250521T072318Z
LAST-MODIFIED:20250714T065046Z
UID:1006-1551722400-1551722400@jonesboroga-archived.com
SUMMARY:Mar 04\, 2019 06:00 PM
DESCRIPTION:3/4/2019 6:00 PM
URL:https://jonesboroga-archived.com/meeting/mar-04-2019-0600-pm/
LOCATION:Jonesboro Police Department
CATEGORIES:City Council
END:VEVENT
BEGIN:VEVENT
DTSTART;VALUE=DATE:20190301
DTEND;VALUE=DATE:20190302
DTSTAMP:20260424T121611
CREATED:20250521T072327Z
LAST-MODIFIED:20250714T034356Z
UID:1012-1551429000-1551429000@jonesboroga-archived.com
SUMMARY:Mar 01\, 2019 08:30 AM
DESCRIPTION:3/1/2019 8:30 AM
URL:https://jonesboroga-archived.com/meeting/mar-01-2019-0830-am/
LOCATION:Low Temp Industries
CATEGORIES:City Council
END:VEVENT
BEGIN:VEVENT
DTSTART;VALUE=DATE:20190228
DTEND;VALUE=DATE:20190301
DTSTAMP:20260424T121611
CREATED:20250521T072319Z
LAST-MODIFIED:20250714T065046Z
UID:1008-1551342600-1551342600@jonesboroga-archived.com
SUMMARY:Feb 28\, 2019 08:30 AM
DESCRIPTION:2/28/2019 8:30 AM
URL:https://jonesboroga-archived.com/meeting/feb-28-2019-0830-am/
LOCATION:Low Temp Industries
CATEGORIES:City Council
END:VEVENT
BEGIN:VEVENT
DTSTART;VALUE=DATE:20190219
DTEND;VALUE=DATE:20190220
DTSTAMP:20260424T121611
CREATED:20250521T072508Z
LAST-MODIFIED:20250714T034818Z
UID:1077-1550599200-1550599200@jonesboroga-archived.com
SUMMARY:Feb 19\, 2019 06:00 PM
DESCRIPTION:2/19/2019 6:00 PM
URL:https://jonesboroga-archived.com/meeting/feb-19-2019-0600-pm/
LOCATION:Jonesboro Housing Authority
CATEGORIES:Jonesboro Housing Authority
END:VEVENT
BEGIN:VEVENT
DTSTART;VALUE=DATE:20190218
DTEND;VALUE=DATE:20190219
DTSTAMP:20260424T121611
CREATED:20250521T072318Z
LAST-MODIFIED:20250714T034339Z
UID:1005-1550511000-1550511000@jonesboroga-archived.com
SUMMARY:Feb 18\, 2019 05:30 PM
DESCRIPTION:2/18/2019 5:30 PM
URL:https://jonesboroga-archived.com/meeting/feb-18-2019-0530-pm/
LOCATION:Jonesboro City Hall
CATEGORIES:Jonesboro Historic Preservation Commission
END:VEVENT
BEGIN:VEVENT
DTSTART;VALUE=DATE:20190211
DTEND;VALUE=DATE:20190212
DTSTAMP:20260424T121611
CREATED:20250521T072203Z
LAST-MODIFIED:20250714T064908Z
UID:961-1549908000-1549908000@jonesboroga-archived.com
SUMMARY:Feb 11\, 2019 06:00 PM
DESCRIPTION:2/11/2019 6:00 PM
URL:https://jonesboroga-archived.com/meeting/feb-11-2019-0600-pm/
LOCATION:Jonesboro Police Department
CATEGORIES:City Council
END:VEVENT
BEGIN:VEVENT
DTSTART;VALUE=DATE:20190206
DTEND;VALUE=DATE:20190207
DTSTAMP:20260424T121611
CREATED:20250521T072301Z
LAST-MODIFIED:20250714T065012Z
UID:996-1549470600-1549470600@jonesboroga-archived.com
SUMMARY:Feb 06\, 2019 04:30 PM
DESCRIPTION:2/6/2019 4:30 PM
URL:https://jonesboroga-archived.com/meeting/feb-06-2019-0430-pm/
LOCATION:Jonesboro City Hall
CATEGORIES:Design Review Commission
END:VEVENT
BEGIN:VEVENT
DTSTART;VALUE=DATE:20190204
DTEND;VALUE=DATE:20190205
DTSTAMP:20260424T121611
CREATED:20250521T072203Z
LAST-MODIFIED:20250714T064908Z
UID:960-1549303200-1549303200@jonesboroga-archived.com
SUMMARY:Feb 04\, 2019 06:00 PM
DESCRIPTION:2/4/2019 6:00 PM
URL:https://jonesboroga-archived.com/meeting/feb-04-2019-0600-pm/
LOCATION:Jonesboro Police Department
CATEGORIES:City Council
END:VEVENT
BEGIN:VEVENT
DTSTART;VALUE=DATE:20190123
DTEND;VALUE=DATE:20190124
DTSTAMP:20260424T121611
CREATED:20250521T072203Z
LAST-MODIFIED:20250714T064926Z
UID:964-1548261000-1548261000@jonesboroga-archived.com
SUMMARY:Jan 23\, 2019 04:30 PM
DESCRIPTION:1/23/2019 4:30 PM
URL:https://jonesboroga-archived.com/meeting/jan-23-2019-0430-pm/
LOCATION:Jonesboro City Hall
CATEGORIES:Design Review Commission
END:VEVENT
BEGIN:VEVENT
DTSTART;VALUE=DATE:20190122
DTEND;VALUE=DATE:20190123
DTSTAMP:20260424T121611
CREATED:20250521T072203Z
LAST-MODIFIED:20250714T064908Z
UID:962-1548178200-1548178200@jonesboroga-archived.com
SUMMARY:Jan 22\, 2019 05:30 PM
DESCRIPTION:1/22/2019 5:30 PM
URL:https://jonesboroga-archived.com/meeting/jan-22-2019-0530-pm/
LOCATION:Jonesboro City Hall
CATEGORIES:Jonesboro Historic Preservation Commission
END:VEVENT
BEGIN:VEVENT
DTSTART;VALUE=DATE:20190115
DTEND;VALUE=DATE:20190116
DTSTAMP:20260424T121611
CREATED:20250521T072507Z
LAST-MODIFIED:20250714T034818Z
UID:1076-1547575200-1547575200@jonesboroga-archived.com
SUMMARY:Jan 15\, 2019 06:00 PM
DESCRIPTION:1/15/2019 6:00 PM
URL:https://jonesboroga-archived.com/meeting/jan-15-2019-0600-pm/
LOCATION:Jonesboro Housing Authority
CATEGORIES:Jonesboro Housing Authority
END:VEVENT
BEGIN:VEVENT
DTSTART;VALUE=DATE:20190114
DTEND;VALUE=DATE:20190115
DTSTAMP:20260424T121611
CREATED:20250521T072154Z
LAST-MODIFIED:20250714T064908Z
UID:958-1547488800-1547488800@jonesboroga-archived.com
SUMMARY:Jan 14\, 2019 06:00 PM
DESCRIPTION:1/14/2019 6:00 PM
URL:https://jonesboroga-archived.com/meeting/jan-14-2019-0600-pm/
LOCATION:Jonesboro Police Department
CATEGORIES:City Council
END:VEVENT
BEGIN:VEVENT
DTSTART;VALUE=DATE:20190107
DTEND;VALUE=DATE:20190108
DTSTAMP:20260424T121611
CREATED:20250521T072154Z
LAST-MODIFIED:20250714T064908Z
UID:957-1546884000-1546884000@jonesboroga-archived.com
SUMMARY:Jan 07\, 2019 06:00 PM
DESCRIPTION:1/7/2019 6:00 PM
URL:https://jonesboroga-archived.com/meeting/jan-07-2019-0600-pm/
LOCATION:Jonesboro Police Department
CATEGORIES:City Council
END:VEVENT
BEGIN:VEVENT
DTSTART;VALUE=DATE:20181220
DTEND;VALUE=DATE:20181221
DTSTAMP:20260424T121611
CREATED:20250521T072154Z
LAST-MODIFIED:20250714T034054Z
UID:959-1545328800-1545328800@jonesboroga-archived.com
SUMMARY:Dec 20\, 2018 06:00 PM
DESCRIPTION:12/20/2018 6:00 PM
URL:https://jonesboroga-archived.com/meeting/dec-20-2018-0600-pm/
LOCATION:Jonesboro Police Department
CATEGORIES:Downtown Development Authority
END:VEVENT
BEGIN:VEVENT
DTSTART;VALUE=DATE:20181218
DTEND;VALUE=DATE:20181219
DTSTAMP:20260424T121611
CREATED:20250521T072507Z
LAST-MODIFIED:20250714T034818Z
UID:1075-1545156000-1545156000@jonesboroga-archived.com
SUMMARY:Dec 18\, 2018 06:00 PM
DESCRIPTION:12/18/2018 6:00 PM
URL:https://jonesboroga-archived.com/meeting/dec-18-2018-0600-pm/
LOCATION:Jonesboro Housing Authority
CATEGORIES:Jonesboro Housing Authority
END:VEVENT
END:VCALENDAR