BEGIN:VCALENDAR
VERSION:2.0
PRODID:-//City of Jonesboro - GA - ECPv6.13.2.1//NONSGML v1.0//EN
CALSCALE:GREGORIAN
METHOD:PUBLISH
X-ORIGINAL-URL:https://jonesboroga-archived.com
X-WR-CALDESC:Events for City of Jonesboro - GA
REFRESH-INTERVAL;VALUE=DURATION:PT1H
X-Robots-Tag:noindex
X-PUBLISHED-TTL:PT1H
BEGIN:VTIMEZONE
TZID:UTC
BEGIN:STANDARD
TZOFFSETFROM:+0000
TZOFFSETTO:+0000
TZNAME:UTC
DTSTART:20190101T000000
END:STANDARD
END:VTIMEZONE
BEGIN:VEVENT
DTSTART;VALUE=DATE:20200210
DTEND;VALUE=DATE:20200211
DTSTAMP:20260421T235539
CREATED:20250521T072543Z
LAST-MODIFIED:20250714T065324Z
UID:1096-1581357600-1581357600@jonesboroga-archived.com
SUMMARY:Feb 10\, 2020 06:00 PM
DESCRIPTION:2/10/2020 6:00 PM
URL:https://jonesboroga-archived.com/meeting/feb-10-2020-0600-pm/
LOCATION:Jonesboro Police Department
CATEGORIES:City Council
END:VEVENT
BEGIN:VEVENT
DTSTART;VALUE=DATE:20200206
DTEND;VALUE=DATE:20200207
DTSTAMP:20260421T235539
CREATED:20250521T072559Z
LAST-MODIFIED:20250714T035032Z
UID:1104-1581012000-1581012000@jonesboroga-archived.com
SUMMARY:Feb 06\, 2020 06:00 PM
DESCRIPTION:2/6/2020 6:00 PM
URL:https://jonesboroga-archived.com/meeting/feb-06-2020-0600-pm/
LOCATION:Jonesboro Police Department
CATEGORIES:Downtown Development Authority
END:VEVENT
BEGIN:VEVENT
DTSTART;VALUE=DATE:20200205
DTEND;VALUE=DATE:20200206
DTSTAMP:20260421T235539
CREATED:20250521T072534Z
LAST-MODIFIED:20250714T065301Z
UID:1092-1580920200-1580920200@jonesboroga-archived.com
SUMMARY:Feb 05\, 2020 04:30 PM
DESCRIPTION:2/5/2020 4:30 PM
URL:https://jonesboroga-archived.com/meeting/feb-05-2020-0430-pm/
LOCATION:Jonesboro City Hall
CATEGORIES:Design Review Commission
END:VEVENT
BEGIN:VEVENT
DTSTART;VALUE=DATE:20200203
DTEND;VALUE=DATE:20200204
DTSTAMP:20260421T235539
CREATED:20250521T072543Z
LAST-MODIFIED:20250714T065324Z
UID:1095-1580752800-1580752800@jonesboroga-archived.com
SUMMARY:Feb 03\, 2020 06:00 PM
DESCRIPTION:2/3/2020 6:00 PM
URL:https://jonesboroga-archived.com/meeting/feb-03-2020-0600-pm/
LOCATION:Jonesboro Police Department
CATEGORIES:City Council
END:VEVENT
BEGIN:VEVENT
DTSTART;VALUE=DATE:20200121
DTEND;VALUE=DATE:20200122
DTSTAMP:20260421T235539
CREATED:20250521T072551Z
LAST-MODIFIED:20250714T065343Z
UID:1099-1579627800-1579627800@jonesboroga-archived.com
SUMMARY:Jan 21\, 2020 05:30 PM
DESCRIPTION:1/21/2020 5:30 PM
URL:https://jonesboroga-archived.com/meeting/jan-21-2020-0530-pm/
LOCATION:Jonesboro City Hall
CATEGORIES:Jonesboro Historic Preservation Commission
END:VEVENT
BEGIN:VEVENT
DTSTART;VALUE=DATE:20200113
DTEND;VALUE=DATE:20200114
DTSTAMP:20260421T235539
CREATED:20250521T072542Z
LAST-MODIFIED:20250714T065324Z
UID:1094-1578938400-1578938400@jonesboroga-archived.com
SUMMARY:Jan 13\, 2020 06:00 PM
DESCRIPTION:1/13/2020 6:00 PM
URL:https://jonesboroga-archived.com/meeting/jan-13-2020-0600-pm/
LOCATION:Jonesboro Police Department
CATEGORIES:City Council
END:VEVENT
BEGIN:VEVENT
DTSTART;VALUE=DATE:20200108
DTEND;VALUE=DATE:20200109
DTSTAMP:20260421T235539
CREATED:20250521T072534Z
LAST-MODIFIED:20250714T065301Z
UID:1091-1578501000-1578501000@jonesboroga-archived.com
SUMMARY:Jan 08\, 2020 04:30 PM
DESCRIPTION:1/8/2020 4:30 PM
URL:https://jonesboroga-archived.com/meeting/jan-08-2020-0430-pm/
LOCATION:Jonesboro City Hall
CATEGORIES:Design Review Commission
END:VEVENT
BEGIN:VEVENT
DTSTART;VALUE=DATE:20191223
DTEND;VALUE=DATE:20191224
DTSTAMP:20260421T235539
CREATED:20250521T072559Z
LAST-MODIFIED:20250714T065400Z
UID:1103-1577124000-1577124000@jonesboroga-archived.com
SUMMARY:Dec 23\, 2019 06:00 PM
DESCRIPTION:12/23/2019 6:00 PM
URL:https://jonesboroga-archived.com/meeting/dec-23-2019-0600-pm/
LOCATION:Jonesboro Police Department
CATEGORIES:City Council
END:VEVENT
BEGIN:VEVENT
DTSTART;VALUE=DATE:20191218
DTEND;VALUE=DATE:20191219
DTSTAMP:20260421T235539
CREATED:20250521T072551Z
LAST-MODIFIED:20250714T065343Z
UID:1102-1576692000-1576692000@jonesboroga-archived.com
SUMMARY:Dec 18\, 2019 06:00 PM
DESCRIPTION:12/18/2019 6:00 PM
URL:https://jonesboroga-archived.com/meeting/dec-18-2019-0600-pm/
LOCATION:Jonesboro Police Department
CATEGORIES:City Council
END:VEVENT
BEGIN:VEVENT
DTSTART;VALUE=DATE:20191216
DTEND;VALUE=DATE:20191217
DTSTAMP:20260421T235539
CREATED:20250521T072401Z
LAST-MODIFIED:20250714T034514Z
UID:1032-1576517400-1576517400@jonesboroga-archived.com
SUMMARY:Dec 16\, 2019 05:30 PM
DESCRIPTION:12/16/2019 5:30 PM
URL:https://jonesboroga-archived.com/meeting/dec-16-2019-0530-pm/
LOCATION:Jonesboro City Hall
CATEGORIES:Jonesboro Historic Preservation Commission
END:VEVENT
BEGIN:VEVENT
DTSTART;VALUE=DATE:20191211
DTEND;VALUE=DATE:20191212
DTSTAMP:20260421T235539
CREATED:20250521T073644Z
LAST-MODIFIED:20250714T065301Z
UID:1474-1576087200-1576087200@jonesboroga-archived.com
SUMMARY:Dec 11\, 2019 06:00 PM
DESCRIPTION:12/11/2019 6:00 PM
URL:https://jonesboroga-archived.com/meeting/dec-11-2019-0600-pm/
LOCATION:Jonesboro Police Department
CATEGORIES:Urban Redevelopment Agency of the City of Jonesboro
END:VEVENT
BEGIN:VEVENT
DTSTART;VALUE=DATE:20191209
DTEND;VALUE=DATE:20191210
DTSTAMP:20260421T235539
CREATED:20250521T072526Z
LAST-MODIFIED:20250714T065244Z
UID:1086-1575914400-1575914400@jonesboroga-archived.com
SUMMARY:Dec 09\, 2019 06:00 PM
DESCRIPTION:12/9/2019 6:00 PM
URL:https://jonesboroga-archived.com/meeting/dec-09-2019-0600-pm/
LOCATION:Jonesboro Police Department
CATEGORIES:City Council
END:VEVENT
BEGIN:VEVENT
DTSTART;VALUE=DATE:20191204
DTEND;VALUE=DATE:20191205
DTSTAMP:20260421T235539
CREATED:20250521T072310Z
LAST-MODIFIED:20250714T065028Z
UID:1002-1575477000-1575477000@jonesboroga-archived.com
SUMMARY:Dec 04\, 2019 04:30 PM
DESCRIPTION:12/4/2019 4:30 PM
URL:https://jonesboroga-archived.com/meeting/dec-04-2019-0430-pm/
LOCATION:Jonesboro City Hall
CATEGORIES:Design Review Commission
END:VEVENT
BEGIN:VEVENT
DTSTART;VALUE=DATE:20191202
DTEND;VALUE=DATE:20191203
DTSTAMP:20260421T235539
CREATED:20250521T072525Z
LAST-MODIFIED:20250714T065229Z
UID:1085-1575309600-1575309600@jonesboroga-archived.com
SUMMARY:Dec 02\, 2019 06:00 PM
DESCRIPTION:12/2/2019 6:00 PM
URL:https://jonesboroga-archived.com/meeting/dec-02-2019-0600-pm/
LOCATION:Jonesboro Police Department
CATEGORIES:City Council
END:VEVENT
BEGIN:VEVENT
DTSTART;VALUE=DATE:20191127
DTEND;VALUE=DATE:20191128
DTSTAMP:20260421T235539
CREATED:20250521T072534Z
LAST-MODIFIED:20250714T065301Z
UID:1090-1574848800-1574848800@jonesboroga-archived.com
SUMMARY:Nov 27\, 2019 10:00 AM
DESCRIPTION:11/27/2019 10:00 AM
URL:https://jonesboroga-archived.com/meeting/nov-27-2019-1000-am/
LOCATION:Jonesboro Police Department
CATEGORIES:City Council
END:VEVENT
BEGIN:VEVENT
DTSTART;VALUE=DATE:20191125
DTEND;VALUE=DATE:20191126
DTSTAMP:20260421T235539
CREATED:20250521T072534Z
LAST-MODIFIED:20250714T065301Z
UID:1089-1574704800-1574704800@jonesboroga-archived.com
SUMMARY:Nov 25\, 2019 06:00 PM
DESCRIPTION:11/25/2019 6:00 PM
URL:https://jonesboroga-archived.com/meeting/nov-25-2019-0600-pm/
LOCATION:Jonesboro Police Department
CATEGORIES:City Council
END:VEVENT
BEGIN:VEVENT
DTSTART;VALUE=DATE:20191120
DTEND;VALUE=DATE:20191121
DTSTAMP:20260421T235539
CREATED:20250521T072534Z
LAST-MODIFIED:20250714T065245Z
UID:1088-1574272800-1574272800@jonesboroga-archived.com
SUMMARY:Nov 20\, 2019 06:00 PM
DESCRIPTION:11/20/2019 6:00 PM
URL:https://jonesboroga-archived.com/meeting/nov-20-2019-0600-pm/
LOCATION:Jonesboro Police Department
CATEGORIES:City Council
END:VEVENT
BEGIN:VEVENT
DTSTART;VALUE=DATE:20191118
DTEND;VALUE=DATE:20191119
DTSTAMP:20260421T235539
CREATED:20250521T072401Z
LAST-MODIFIED:20250714T065157Z
UID:1031-1574098200-1574098200@jonesboroga-archived.com
SUMMARY:Nov 18\, 2019 05:30 PM
DESCRIPTION:11/18/2019 5:30 PM
URL:https://jonesboroga-archived.com/meeting/nov-18-2019-0530-pm/
LOCATION:Jonesboro City Hall
CATEGORIES:Jonesboro Historic Preservation Commission
END:VEVENT
BEGIN:VEVENT
DTSTART;VALUE=DATE:20191111
DTEND;VALUE=DATE:20191112
DTSTAMP:20260421T235539
CREATED:20250521T072525Z
LAST-MODIFIED:20250714T065229Z
UID:1084-1573495200-1573495200@jonesboroga-archived.com
SUMMARY:Nov 11\, 2019 06:00 PM
DESCRIPTION:11/11/2019 6:00 PM
URL:https://jonesboroga-archived.com/meeting/nov-11-2019-0600-pm/
LOCATION:Jonesboro Police Department
CATEGORIES:City Council
END:VEVENT
BEGIN:VEVENT
DTSTART;VALUE=DATE:20191106
DTEND;VALUE=DATE:20191107
DTSTAMP:20260421T235539
CREATED:20250521T072310Z
LAST-MODIFIED:20250714T065028Z
UID:1003-1573057800-1573057800@jonesboroga-archived.com
SUMMARY:Nov 06\, 2019 04:30 PM
DESCRIPTION:11/6/2019 4:30 PM
URL:https://jonesboroga-archived.com/meeting/nov-06-2019-0430-pm/
LOCATION:Jonesboro City Hall
CATEGORIES:Design Review Commission
END:VEVENT
BEGIN:VEVENT
DTSTART;VALUE=DATE:20191104
DTEND;VALUE=DATE:20191105
DTSTAMP:20260421T235539
CREATED:20250521T072525Z
LAST-MODIFIED:20250714T065229Z
UID:1083-1572890400-1572890400@jonesboroga-archived.com
SUMMARY:Nov 04\, 2019 06:00 PM
DESCRIPTION:11/4/2019 6:00 PM
URL:https://jonesboroga-archived.com/meeting/nov-04-2019-0600-pm/
LOCATION:Jonesboro Police Department
CATEGORIES:City Council
END:VEVENT
BEGIN:VEVENT
DTSTART;VALUE=DATE:20191028
DTEND;VALUE=DATE:20191029
DTSTAMP:20260421T235539
CREATED:20250521T073635Z
LAST-MODIFIED:20250714T065244Z
UID:1470-1572285600-1572285600@jonesboroga-archived.com
SUMMARY:Oct 28\, 2019 06:00 PM
DESCRIPTION:10/28/2019 6:00 PM
URL:https://jonesboroga-archived.com/meeting/oct-28-2019-0600-pm/
LOCATION:Jonesboro Police Department
CATEGORIES:Urban Redevelopment Agency of the City of Jonesboro
END:VEVENT
BEGIN:VEVENT
DTSTART;VALUE=DATE:20191021
DTEND;VALUE=DATE:20191022
DTSTAMP:20260421T235539
CREATED:20250521T072352Z
LAST-MODIFIED:20250714T034456Z
UID:1030-1571679000-1571679000@jonesboroga-archived.com
SUMMARY:Oct 21\, 2019 05:30 PM
DESCRIPTION:10/21/2019 5:30 PM
URL:https://jonesboroga-archived.com/meeting/oct-21-2019-0530-pm/
LOCATION:Jonesboro City Hall
CATEGORIES:Jonesboro Historic Preservation Commission
END:VEVENT
BEGIN:VEVENT
DTSTART;VALUE=DATE:20191014
DTEND;VALUE=DATE:20191015
DTSTAMP:20260421T235539
CREATED:20250521T072516Z
LAST-MODIFIED:20250714T065229Z
UID:1082-1571076000-1571076000@jonesboroga-archived.com
SUMMARY:Oct 14\, 2019 06:00 PM
DESCRIPTION:10/14/2019 6:00 PM
URL:https://jonesboroga-archived.com/meeting/oct-14-2019-0600-pm/
LOCATION:Jonesboro Police Department
CATEGORIES:City Council
END:VEVENT
BEGIN:VEVENT
DTSTART;VALUE=DATE:20191007
DTEND;VALUE=DATE:20191008
DTSTAMP:20260421T235539
CREATED:20250521T072516Z
LAST-MODIFIED:20250714T065229Z
UID:1081-1570471200-1570471200@jonesboroga-archived.com
SUMMARY:Oct 07\, 2019 06:00 PM
DESCRIPTION:10/7/2019 6:00 PM
URL:https://jonesboroga-archived.com/meeting/oct-07-2019-0600-pm/
LOCATION:Jonesboro Police Department
CATEGORIES:City Council
END:VEVENT
BEGIN:VEVENT
DTSTART;VALUE=DATE:20191007
DTEND;VALUE=DATE:20191008
DTSTAMP:20260421T235539
CREATED:20250521T072526Z
LAST-MODIFIED:20250714T065244Z
UID:1087-1570467600-1570467600@jonesboroga-archived.com
SUMMARY:Oct 07\, 2019 05:00 PM
DESCRIPTION:10/7/2019 5:00 PM
URL:https://jonesboroga-archived.com/meeting/oct-07-2019-0500-pm/
LOCATION:Jonesboro Police Department
CATEGORIES:City Council
END:VEVENT
BEGIN:VEVENT
DTSTART;VALUE=DATE:20191003
DTEND;VALUE=DATE:20191004
DTSTAMP:20260421T235539
CREATED:20250521T073635Z
LAST-MODIFIED:20250714T065244Z
UID:1468-1570125600-1570125600@jonesboroga-archived.com
SUMMARY:Oct 03\, 2019 06:00 PM
DESCRIPTION:10/3/2019 6:00 PM
URL:https://jonesboroga-archived.com/meeting/oct-03-2019-0600-pm/
LOCATION:Jonesboro Police Department
CATEGORIES:Downtown Development Authority
END:VEVENT
BEGIN:VEVENT
DTSTART;VALUE=DATE:20191002
DTEND;VALUE=DATE:20191003
DTSTAMP:20260421T235539
CREATED:20250521T072310Z
LAST-MODIFIED:20250714T065046Z
UID:1004-1569990600-1569990600@jonesboroga-archived.com
SUMMARY:Oct 02\, 2019 04:30 AM
DESCRIPTION:10/2/2019 4:30 AM
URL:https://jonesboroga-archived.com/meeting/oct-02-2019-0430-am/
LOCATION:Jonesboro City Hall
CATEGORIES:Design Review Commission
END:VEVENT
BEGIN:VEVENT
DTSTART;VALUE=DATE:20190918
DTEND;VALUE=DATE:20190919
DTSTAMP:20260421T235539
CREATED:20250521T072409Z
LAST-MODIFIED:20250714T065213Z
UID:1039-1568824200-1568824200@jonesboroga-archived.com
SUMMARY:Sep 18\, 2019 04:30 PM
DESCRIPTION:9/18/2019 4:30 PM
URL:https://jonesboroga-archived.com/meeting/sep-18-2019-0430-pm/
LOCATION:Jonesboro City Hall
CATEGORIES:Design Review Commission
END:VEVENT
BEGIN:VEVENT
DTSTART;VALUE=DATE:20190916
DTEND;VALUE=DATE:20190917
DTSTAMP:20260421T235539
CREATED:20250521T072352Z
LAST-MODIFIED:20250714T065157Z
UID:1029-1568655000-1568655000@jonesboroga-archived.com
SUMMARY:Sep 16\, 2019 05:30 PM
DESCRIPTION:9/16/2019 5:30 PM
URL:https://jonesboroga-archived.com/meeting/sep-16-2019-0530-pm/
LOCATION:Jonesboro City Hall
CATEGORIES:Jonesboro Historic Preservation Commission
END:VEVENT
END:VCALENDAR