BEGIN:VCALENDAR
VERSION:2.0
PRODID:-//City of Jonesboro - GA - ECPv6.13.2.1//NONSGML v1.0//EN
CALSCALE:GREGORIAN
METHOD:PUBLISH
X-ORIGINAL-URL:https://jonesboroga-archived.com
X-WR-CALDESC:Events for City of Jonesboro - GA
REFRESH-INTERVAL;VALUE=DURATION:PT1H
X-Robots-Tag:noindex
X-PUBLISHED-TTL:PT1H
BEGIN:VTIMEZONE
TZID:UTC
BEGIN:STANDARD
TZOFFSETFROM:+0000
TZOFFSETTO:+0000
TZNAME:UTC
DTSTART:20200101T000000
END:STANDARD
END:VTIMEZONE
BEGIN:VEVENT
DTSTART;VALUE=DATE:20200803
DTEND;VALUE=DATE:20200804
DTSTAMP:20260421T153843
CREATED:20250521T072634Z
LAST-MODIFIED:20250714T065528Z
UID:1124-1596477600-1596477600@jonesboroga-archived.com
SUMMARY:Aug 03\, 2020 06:00 PM
DESCRIPTION:8/3/2020 6:00 PM
URL:https://jonesboroga-archived.com/meeting/aug-03-2020-0600-pm/
LOCATION:Via Zoom Meetings
CATEGORIES:City Council
END:VEVENT
BEGIN:VEVENT
DTSTART;VALUE=DATE:20200730
DTEND;VALUE=DATE:20200731
DTSTAMP:20260421T153843
CREATED:20250521T072642Z
LAST-MODIFIED:20250714T065550Z
UID:1129-1596132000-1596132000@jonesboroga-archived.com
SUMMARY:Jul 30\, 2020 06:00 PM
DESCRIPTION:7/30/2020 6:00 PM
URL:https://jonesboroga-archived.com/meeting/jul-30-2020-0600-pm/
LOCATION:Jonesboro Police Department
CATEGORIES:City Council
END:VEVENT
BEGIN:VEVENT
DTSTART;VALUE=DATE:20200723
DTEND;VALUE=DATE:20200724
DTSTAMP:20260421T153843
CREATED:20250521T072634Z
LAST-MODIFIED:20250714T065550Z
UID:1128-1595527200-1595527200@jonesboroga-archived.com
SUMMARY:Jul 23\, 2020 06:00 PM
DESCRIPTION:7/23/2020 6:00 PM
URL:https://jonesboroga-archived.com/meeting/jul-23-2020-0600-pm/
LOCATION:Via Zoom Meetings
CATEGORIES:Downtown Development Authority
END:VEVENT
BEGIN:VEVENT
DTSTART;VALUE=DATE:20200720
DTEND;VALUE=DATE:20200721
DTSTAMP:20260421T153843
CREATED:20250521T073741Z
LAST-MODIFIED:20250714T065550Z
UID:1513-1595268000-1595268000@jonesboroga-archived.com
SUMMARY:Jul 20\, 2020 06:00 PM
DESCRIPTION:7/20/2020 6:00 PM
URL:https://jonesboroga-archived.com/meeting/jul-20-2020-0600-pm/
LOCATION:Arts Clayton
CATEGORIES:City Council
END:VEVENT
BEGIN:VEVENT
DTSTART;VALUE=DATE:20200720
DTEND;VALUE=DATE:20200721
DTSTAMP:20260421T153843
CREATED:20250521T072634Z
LAST-MODIFIED:20250714T065528Z
UID:1125-1595266200-1595266200@jonesboroga-archived.com
SUMMARY:Jul 20\, 2020 05:30 PM
DESCRIPTION:7/20/2020 5:30 PM
URL:https://jonesboroga-archived.com/meeting/jul-20-2020-0530-pm/
LOCATION:Via Zoom Meetings
CATEGORIES:Jonesboro Historic Preservation Commission
END:VEVENT
BEGIN:VEVENT
DTSTART;VALUE=DATE:20200713
DTEND;VALUE=DATE:20200714
DTSTAMP:20260421T153843
CREATED:20250521T072625Z
LAST-MODIFIED:20250714T065503Z
UID:1120-1594663200-1594663200@jonesboroga-archived.com
SUMMARY:Jul 13\, 2020 06:00 PM
DESCRIPTION:7/13/2020 6:00 PM
URL:https://jonesboroga-archived.com/meeting/jul-13-2020-0600-pm/
LOCATION:Via Zoom Meetings
CATEGORIES:City Council
END:VEVENT
BEGIN:VEVENT
DTSTART;VALUE=DATE:20200706
DTEND;VALUE=DATE:20200707
DTSTAMP:20260421T153843
CREATED:20250521T072625Z
LAST-MODIFIED:20250714T065503Z
UID:1119-1594058400-1594058400@jonesboroga-archived.com
SUMMARY:Jul 06\, 2020 06:00 PM
DESCRIPTION:7/6/2020 6:00 PM
URL:https://jonesboroga-archived.com/meeting/jul-06-2020-0600-pm/
LOCATION:Via Zoom Meetings
CATEGORIES:City Council
END:VEVENT
BEGIN:VEVENT
DTSTART;VALUE=DATE:20200701
DTEND;VALUE=DATE:20200702
DTSTAMP:20260421T153843
CREATED:20250521T072626Z
LAST-MODIFIED:20250714T065503Z
UID:1122-1593621000-1593621000@jonesboroga-archived.com
SUMMARY:Jul 01\, 2020 04:30 PM
DESCRIPTION:7/1/2020 4:30 PM
URL:https://jonesboroga-archived.com/meeting/jul-01-2020-0430-pm/
LOCATION:Via Zoom Meetings
CATEGORIES:Design Review Commission
END:VEVENT
BEGIN:VEVENT
DTSTART;VALUE=DATE:20200618
DTEND;VALUE=DATE:20200619
DTSTAMP:20260421T153843
CREATED:20250521T072626Z
LAST-MODIFIED:20250714T065528Z
UID:1123-1592497800-1592497800@jonesboroga-archived.com
SUMMARY:Jun 18\, 2020 04:30 PM
DESCRIPTION:6/18/2020 4:30 PM
URL:https://jonesboroga-archived.com/meeting/jun-18-2020-0430-pm/
LOCATION:Via Zoom Meetings
CATEGORIES:Design Review Commission
END:VEVENT
BEGIN:VEVENT
DTSTART;VALUE=DATE:20200615
DTEND;VALUE=DATE:20200616
DTSTAMP:20260421T153843
CREATED:20250521T072608Z
LAST-MODIFIED:20250714T065425Z
UID:1112-1592242200-1592242200@jonesboroga-archived.com
SUMMARY:Jun 15\, 2020 05:30 PM
DESCRIPTION:6/15/2020 5:30 PM
URL:https://jonesboroga-archived.com/meeting/jun-15-2020-0530-pm/
LOCATION:Via Zoom Meetings
CATEGORIES:Jonesboro Historic Preservation Commission
END:VEVENT
BEGIN:VEVENT
DTSTART;VALUE=DATE:20200615
DTEND;VALUE=DATE:20200616
DTSTAMP:20260421T153843
CREATED:20250521T072625Z
LAST-MODIFIED:20250714T065503Z
UID:1121-1592236800-1592236800@jonesboroga-archived.com
SUMMARY:Jun 15\, 2020 04:00 PM
DESCRIPTION:6/15/2020 4:00 PM
URL:https://jonesboroga-archived.com/meeting/jun-15-2020-0400-pm/
LOCATION:Via Zoom Meetings
CATEGORIES:Design Review Commission
END:VEVENT
BEGIN:VEVENT
DTSTART;VALUE=DATE:20200608
DTEND;VALUE=DATE:20200609
DTSTAMP:20260421T153843
CREATED:20250521T072617Z
LAST-MODIFIED:20250714T065503Z
UID:1118-1591639200-1591639200@jonesboroga-archived.com
SUMMARY:Jun 08\, 2020 06:00 PM
DESCRIPTION:6/8/2020 6:00 PM
URL:https://jonesboroga-archived.com/meeting/jun-08-2020-0600-pm/
LOCATION:Via Zoom Meetings
CATEGORIES:City Council
END:VEVENT
BEGIN:VEVENT
DTSTART;VALUE=DATE:20200603
DTEND;VALUE=DATE:20200604
DTSTAMP:20260421T153843
CREATED:20250521T072608Z
LAST-MODIFIED:20250714T065425Z
UID:1110-1591201800-1591201800@jonesboroga-archived.com
SUMMARY:Jun 03\, 2020 04:30 PM
DESCRIPTION:6/3/2020 4:30 PM
URL:https://jonesboroga-archived.com/meeting/jun-03-2020-0430-pm/
LOCATION:Via Zoom Meetings
CATEGORIES:Design Review Commission
END:VEVENT
BEGIN:VEVENT
DTSTART;VALUE=DATE:20200601
DTEND;VALUE=DATE:20200602
DTSTAMP:20260421T153843
CREATED:20250521T072617Z
LAST-MODIFIED:20250714T065441Z
UID:1117-1591034400-1591034400@jonesboroga-archived.com
SUMMARY:Jun 01\, 2020 06:00 PM
DESCRIPTION:6/1/2020 6:00 PM
URL:https://jonesboroga-archived.com/meeting/jun-01-2020-0600-pm/
LOCATION:Via Zoom Meetings
CATEGORIES:City Council
END:VEVENT
BEGIN:VEVENT
DTSTART;VALUE=DATE:20200518
DTEND;VALUE=DATE:20200519
DTSTAMP:20260421T153843
CREATED:20250521T072608Z
LAST-MODIFIED:20250714T065425Z
UID:1111-1589823000-1589823000@jonesboroga-archived.com
SUMMARY:May 18\, 2020 05:30 PM
DESCRIPTION:5/18/2020 5:30 PM
URL:https://jonesboroga-archived.com/meeting/may-18-2020-0530-pm/
LOCATION:Via Zoom Meetings
CATEGORIES:Jonesboro Historic Preservation Commission
END:VEVENT
BEGIN:VEVENT
DTSTART;VALUE=DATE:20200511
DTEND;VALUE=DATE:20200512
DTSTAMP:20260421T153843
CREATED:20250521T072617Z
LAST-MODIFIED:20250714T065441Z
UID:1116-1589220000-1589220000@jonesboroga-archived.com
SUMMARY:May 11\, 2020 06:00 PM
DESCRIPTION:5/11/2020 6:00 PM
URL:https://jonesboroga-archived.com/meeting/may-11-2020-0600-pm/
LOCATION:Via Zoom Meetings
CATEGORIES:City Council
END:VEVENT
BEGIN:VEVENT
DTSTART;VALUE=DATE:20200506
DTEND;VALUE=DATE:20200507
DTSTAMP:20260421T153843
CREATED:20250521T072608Z
LAST-MODIFIED:20250714T065425Z
UID:1109-1588782600-1588782600@jonesboroga-archived.com
SUMMARY:May 06\, 2020 04:30 PM
DESCRIPTION:5/6/2020 4:30 PM
URL:https://jonesboroga-archived.com/meeting/may-06-2020-0430-pm/
LOCATION:Jonesboro City Hall
CATEGORIES:Design Review Commission
END:VEVENT
BEGIN:VEVENT
DTSTART;VALUE=DATE:20200504
DTEND;VALUE=DATE:20200505
DTSTAMP:20260421T153843
CREATED:20250521T072617Z
LAST-MODIFIED:20250714T065441Z
UID:1115-1588615200-1588615200@jonesboroga-archived.com
SUMMARY:May 04\, 2020 06:00 PM
DESCRIPTION:5/4/2020 6:00 PM
URL:https://jonesboroga-archived.com/meeting/may-04-2020-0600-pm/
LOCATION:Via Zoom Meetings
CATEGORIES:City Council
END:VEVENT
BEGIN:VEVENT
DTSTART;VALUE=DATE:20200427
DTEND;VALUE=DATE:20200428
DTSTAMP:20260421T153843
CREATED:20250521T072616Z
LAST-MODIFIED:20250714T065441Z
UID:1114-1588010400-1588010400@jonesboroga-archived.com
SUMMARY:Apr 27\, 2020 06:00 PM
DESCRIPTION:4/27/2020 6:00 PM
URL:https://jonesboroga-archived.com/meeting/apr-27-2020-0600-pm/
LOCATION:Via Zoom Meetings
CATEGORIES:City Council
END:VEVENT
BEGIN:VEVENT
DTSTART;VALUE=DATE:20200413
DTEND;VALUE=DATE:20200414
DTSTAMP:20260421T153843
CREATED:20250521T072600Z
LAST-MODIFIED:20250714T065400Z
UID:1105-1586800800-1586800800@jonesboroga-archived.com
SUMMARY:Apr 13\, 2020 06:00 PM
DESCRIPTION:4/13/2020 6:00 PM
URL:https://jonesboroga-archived.com/meeting/apr-13-2020-0600-pm/
LOCATION:Via Zoom Meetings
CATEGORIES:City Council
END:VEVENT
BEGIN:VEVENT
DTSTART;VALUE=DATE:20200401
DTEND;VALUE=DATE:20200402
DTSTAMP:20260421T153843
CREATED:20250521T072608Z
LAST-MODIFIED:20250714T065441Z
UID:1113-1585764000-1585764000@jonesboroga-archived.com
SUMMARY:Apr 01\, 2020 06:00 PM
DESCRIPTION:4/1/2020 6:00 PM
URL:https://jonesboroga-archived.com/meeting/apr-01-2020-0600-pm/
LOCATION:Via Zoom Meetings
CATEGORIES:City Council
END:VEVENT
BEGIN:VEVENT
DTSTART;VALUE=DATE:20200401
DTEND;VALUE=DATE:20200402
DTSTAMP:20260421T153843
CREATED:20250521T072600Z
LAST-MODIFIED:20250714T065425Z
UID:1108-1585758600-1585758600@jonesboroga-archived.com
SUMMARY:Apr 01\, 2020 04:30 PM
DESCRIPTION:4/1/2020 4:30 PM
URL:https://jonesboroga-archived.com/meeting/apr-01-2020-0430-pm/
LOCATION:Jonesboro City Hall
CATEGORIES:Design Review Commission
END:VEVENT
BEGIN:VEVENT
DTSTART;VALUE=DATE:20200324
DTEND;VALUE=DATE:20200325
DTSTAMP:20260421T153843
CREATED:20250521T072600Z
LAST-MODIFIED:20250714T065400Z
UID:1107-1585072800-1585072800@jonesboroga-archived.com
SUMMARY:Mar 24\, 2020 06:00 PM
DESCRIPTION:3/24/2020 6:00 PM
URL:https://jonesboroga-archived.com/meeting/mar-24-2020-0600-pm/
LOCATION:Via Zoom Meetings
CATEGORIES:City Council
END:VEVENT
BEGIN:VEVENT
DTSTART;VALUE=DATE:20200316
DTEND;VALUE=DATE:20200317
DTSTAMP:20260421T153843
CREATED:20250521T072551Z
LAST-MODIFIED:20250714T065343Z
UID:1101-1584379800-1584379800@jonesboroga-archived.com
SUMMARY:Mar 16\, 2020 05:30 PM
DESCRIPTION:3/16/2020 5:30 PM
URL:https://jonesboroga-archived.com/meeting/mar-16-2020-0530-pm/
LOCATION:Jonesboro City Hall
CATEGORIES:Jonesboro Historic Preservation Commission
END:VEVENT
BEGIN:VEVENT
DTSTART;VALUE=DATE:20200309
DTEND;VALUE=DATE:20200310
DTSTAMP:20260421T153843
CREATED:20250521T072551Z
LAST-MODIFIED:20250714T065343Z
UID:1098-1583776800-1583776800@jonesboroga-archived.com
SUMMARY:Mar 09\, 2020 06:00 PM
DESCRIPTION:3/9/2020 6:00 PM
URL:https://jonesboroga-archived.com/meeting/mar-09-2020-0600-pm/
LOCATION:Jonesboro Police Department
CATEGORIES:City Council
END:VEVENT
BEGIN:VEVENT
DTSTART;VALUE=DATE:20200304
DTEND;VALUE=DATE:20200305
DTSTAMP:20260421T153843
CREATED:20250521T072542Z
LAST-MODIFIED:20250714T065324Z
UID:1093-1583339400-1583339400@jonesboroga-archived.com
SUMMARY:Mar 04\, 2020 04:30 PM
DESCRIPTION:3/4/2020 4:30 PM
URL:https://jonesboroga-archived.com/meeting/mar-04-2020-0430-pm/
LOCATION:Jonesboro City Hall
CATEGORIES:Design Review Commission
END:VEVENT
BEGIN:VEVENT
DTSTART;VALUE=DATE:20200302
DTEND;VALUE=DATE:20200303
DTSTAMP:20260421T153843
CREATED:20250521T072543Z
LAST-MODIFIED:20250714T065324Z
UID:1097-1583172000-1583172000@jonesboroga-archived.com
SUMMARY:Mar 02\, 2020 06:00 PM
DESCRIPTION:3/2/2020 6:00 PM
URL:https://jonesboroga-archived.com/meeting/mar-02-2020-0600-pm/
LOCATION:Jonesboro Police Department
CATEGORIES:City Council
END:VEVENT
BEGIN:VEVENT
DTSTART;VALUE=DATE:20200228
DTEND;VALUE=DATE:20200229
DTSTAMP:20260421T153843
CREATED:20250521T073708Z
LAST-MODIFIED:20250714T065400Z
UID:1489-1582880400-1582880400@jonesboroga-archived.com
SUMMARY:Feb 28\, 2020 09:00 AM
DESCRIPTION:2/28/2020 9:00 AM
URL:https://jonesboroga-archived.com/meeting/feb-28-2020-0900-am/
LOCATION:Stone Lodge at Merrimac Lakes
CATEGORIES:City Council
END:VEVENT
BEGIN:VEVENT
DTSTART;VALUE=DATE:20200227
DTEND;VALUE=DATE:20200228
DTSTAMP:20260421T153843
CREATED:20250521T073708Z
LAST-MODIFIED:20250714T065400Z
UID:1488-1582794000-1582794000@jonesboroga-archived.com
SUMMARY:Feb 27\, 2020 09:00 AM
DESCRIPTION:2/27/2020 9:00 AM
URL:https://jonesboroga-archived.com/meeting/feb-27-2020-0900-am/
LOCATION:Low Temp Industries
CATEGORIES:City Council
END:VEVENT
BEGIN:VEVENT
DTSTART;VALUE=DATE:20200217
DTEND;VALUE=DATE:20200218
DTSTAMP:20260421T153843
CREATED:20250521T072551Z
LAST-MODIFIED:20250714T065343Z
UID:1100-1581960600-1581960600@jonesboroga-archived.com
SUMMARY:Feb 17\, 2020 05:30 PM
DESCRIPTION:2/17/2020 5:30 PM
URL:https://jonesboroga-archived.com/meeting/feb-17-2020-0530-pm/
LOCATION:Jonesboro City Hall
CATEGORIES:Jonesboro Historic Preservation Commission
END:VEVENT
END:VCALENDAR