BEGIN:VCALENDAR
VERSION:2.0
PRODID:-//City of Jonesboro - GA - ECPv6.13.2.1//NONSGML v1.0//EN
CALSCALE:GREGORIAN
METHOD:PUBLISH
X-WR-CALNAME:City of Jonesboro - GA
X-ORIGINAL-URL:https://jonesboroga-archived.com
X-WR-CALDESC:Events for City of Jonesboro - GA
REFRESH-INTERVAL;VALUE=DURATION:PT1H
X-Robots-Tag:noindex
X-PUBLISHED-TTL:PT1H
BEGIN:VTIMEZONE
TZID:UTC
BEGIN:STANDARD
TZOFFSETFROM:+0000
TZOFFSETTO:+0000
TZNAME:UTC
DTSTART:20200101T000000
END:STANDARD
END:VTIMEZONE
BEGIN:VEVENT
DTSTART;VALUE=DATE:20201214
DTEND;VALUE=DATE:20201215
DTSTAMP:20260421T094258
CREATED:20250521T072708Z
LAST-MODIFIED:20250714T065713Z
UID:1145-1607968800-1607968800@jonesboroga-archived.com
SUMMARY:Dec 14\, 2020 06:00 PM
DESCRIPTION:12/14/2020 6:00 PM
URL:https://jonesboroga-archived.com/meeting/dec-14-2020-0600-pm/
LOCATION:Jonesboro Police Department
CATEGORIES:City Council
END:VEVENT
BEGIN:VEVENT
DTSTART;VALUE=DATE:20201210
DTEND;VALUE=DATE:20201211
DTSTAMP:20260421T094258
CREATED:20250521T072717Z
LAST-MODIFIED:20250714T065733Z
UID:1151-1607623200-1607623200@jonesboroga-archived.com
SUMMARY:Dec 10\, 2020 06:00 PM
DESCRIPTION:12/10/2020 6:00 PM
URL:https://jonesboroga-archived.com/meeting/dec-10-2020-0600-pm/
LOCATION:Via Zoom Meetings
CATEGORIES:Downtown Development Authority
END:VEVENT
BEGIN:VEVENT
DTSTART;VALUE=DATE:20201207
DTEND;VALUE=DATE:20201208
DTSTAMP:20260421T094258
CREATED:20250521T072708Z
LAST-MODIFIED:20250714T065645Z
UID:1144-1607364000-1607364000@jonesboroga-archived.com
SUMMARY:Dec 07\, 2020 06:00 PM
DESCRIPTION:12/7/2020 6:00 PM
URL:https://jonesboroga-archived.com/meeting/dec-07-2020-0600-pm/
LOCATION:Jonesboro Police Department
CATEGORIES:City Council
END:VEVENT
BEGIN:VEVENT
DTSTART;VALUE=DATE:20201202
DTEND;VALUE=DATE:20201203
DTSTAMP:20260421T094258
CREATED:20250521T072709Z
LAST-MODIFIED:20250714T065713Z
UID:1148-1606926600-1606926600@jonesboroga-archived.com
SUMMARY:Dec 02\, 2020 04:30 PM
DESCRIPTION:12/2/2020 4:30 PM
URL:https://jonesboroga-archived.com/meeting/dec-02-2020-0430-pm/
LOCATION:Via Zoom Meetings
CATEGORIES:Design Review Commission
END:VEVENT
BEGIN:VEVENT
DTSTART;VALUE=DATE:20201117
DTEND;VALUE=DATE:20201118
DTSTAMP:20260421T094258
CREATED:20250521T072708Z
LAST-MODIFIED:20250714T065713Z
UID:1146-1605630600-1605630600@jonesboroga-archived.com
SUMMARY:Nov 17\, 2020 04:30 PM
DESCRIPTION:11/17/2020 4:30 PM
URL:https://jonesboroga-archived.com/meeting/nov-17-2020-0430-pm/
LOCATION:Via Zoom Meetings
CATEGORIES:Design Review Commission
END:VEVENT
BEGIN:VEVENT
DTSTART;VALUE=DATE:20201117
DTEND;VALUE=DATE:20201118
DTSTAMP:20260421T094258
CREATED:20250521T072708Z
LAST-MODIFIED:20250714T065713Z
UID:1147-1605630600-1605630600@jonesboroga-archived.com
SUMMARY:Nov 17\, 2020 04:30 PM
DESCRIPTION:11/17/2020 4:30 PM
URL:https://jonesboroga-archived.com/meeting/nov-17-2020-0430-pm-2/
LOCATION:Via Zoom Meetings
CATEGORIES:Jonesboro Historic Preservation Commission
END:VEVENT
BEGIN:VEVENT
DTSTART;VALUE=DATE:20201109
DTEND;VALUE=DATE:20201110
DTSTAMP:20260421T094258
CREATED:20250521T072700Z
LAST-MODIFIED:20250714T065645Z
UID:1143-1604944800-1604944800@jonesboroga-archived.com
SUMMARY:Nov 09\, 2020 06:00 PM
DESCRIPTION:11/9/2020 6:00 PM
URL:https://jonesboroga-archived.com/meeting/nov-09-2020-0600-pm/
LOCATION:Jonesboro Police Department
CATEGORIES:City Council
END:VEVENT
BEGIN:VEVENT
DTSTART;VALUE=DATE:20201102
DTEND;VALUE=DATE:20201103
DTSTAMP:20260421T094258
CREATED:20250521T072659Z
LAST-MODIFIED:20250714T065645Z
UID:1142-1604340000-1604340000@jonesboroga-archived.com
SUMMARY:Nov 02\, 2020 06:00 PM
DESCRIPTION:11/2/2020 6:00 PM
URL:https://jonesboroga-archived.com/meeting/nov-02-2020-0600-pm/
LOCATION:Jonesboro Police Department
CATEGORIES:City Council
END:VEVENT
BEGIN:VEVENT
DTSTART;VALUE=DATE:20201019
DTEND;VALUE=DATE:20201020
DTSTAMP:20260421T094258
CREATED:20250521T072659Z
LAST-MODIFIED:20250714T065645Z
UID:1141-1603130400-1603130400@jonesboroga-archived.com
SUMMARY:Oct 19\, 2020 06:00 PM
DESCRIPTION:10/19/2020 6:00 PM
URL:https://jonesboroga-archived.com/meeting/oct-19-2020-0600-pm/
LOCATION:Jonesboro Police Department
CATEGORIES:City Council
END:VEVENT
BEGIN:VEVENT
DTSTART;VALUE=DATE:20201019
DTEND;VALUE=DATE:20201020
DTSTAMP:20260421T094258
CREATED:20250521T072659Z
LAST-MODIFIED:20250714T065628Z
UID:1140-1603128600-1603128600@jonesboroga-archived.com
SUMMARY:Oct 19\, 2020 05:30 PM
DESCRIPTION:10/19/2020 5:30 PM
URL:https://jonesboroga-archived.com/meeting/oct-19-2020-0530-pm/
LOCATION:Via Zoom Meetings
CATEGORIES:Jonesboro Historic Preservation Commission
END:VEVENT
BEGIN:VEVENT
DTSTART;VALUE=DATE:20201018
DTEND;VALUE=DATE:20201019
DTSTAMP:20260421T094258
CREATED:20250521T073805Z
LAST-MODIFIED:20250714T065645Z
UID:1530-1603044000-1603044000@jonesboroga-archived.com
SUMMARY:Oct 18\, 2020 06:00 PM
DESCRIPTION:10/18/2020 6:00 PM
URL:https://jonesboroga-archived.com/meeting/oct-18-2020-0600-pm/
LOCATION:Jonesboro Police Department
CATEGORIES:City Council
END:VEVENT
BEGIN:VEVENT
DTSTART;VALUE=DATE:20201012
DTEND;VALUE=DATE:20201013
DTSTAMP:20260421T094258
CREATED:20250521T072651Z
LAST-MODIFIED:20250714T065607Z
UID:1135-1602525600-1602525600@jonesboroga-archived.com
SUMMARY:Oct 12\, 2020 06:00 PM
DESCRIPTION:10/12/2020 6:00 PM
URL:https://jonesboroga-archived.com/meeting/oct-12-2020-0600-pm/
LOCATION:Jonesboro Police Department
CATEGORIES:City Council
END:VEVENT
BEGIN:VEVENT
DTSTART;VALUE=DATE:20201007
DTEND;VALUE=DATE:20201008
DTSTAMP:20260421T094258
CREATED:20250521T072659Z
LAST-MODIFIED:20250714T065628Z
UID:1139-1602088200-1602088200@jonesboroga-archived.com
SUMMARY:Oct 07\, 2020 04:30 PM
DESCRIPTION:10/7/2020 4:30 PM
URL:https://jonesboroga-archived.com/meeting/oct-07-2020-0430-pm/
LOCATION:Via Zoom Meetings
CATEGORIES:Design Review Commission
END:VEVENT
BEGIN:VEVENT
DTSTART;VALUE=DATE:20201005
DTEND;VALUE=DATE:20201006
DTSTAMP:20260421T094258
CREATED:20250521T072651Z
LAST-MODIFIED:20250714T065607Z
UID:1134-1601920800-1601920800@jonesboroga-archived.com
SUMMARY:Oct 05\, 2020 06:00 PM
DESCRIPTION:10/5/2020 6:00 PM
URL:https://jonesboroga-archived.com/meeting/oct-05-2020-0600-pm/
LOCATION:Jonesboro Police Department
CATEGORIES:City Council
END:VEVENT
BEGIN:VEVENT
DTSTART;VALUE=DATE:20201001
DTEND;VALUE=DATE:20201002
DTSTAMP:20260421T094258
CREATED:20250521T072651Z
LAST-MODIFIED:20250714T065628Z
UID:1138-1601575200-1601575200@jonesboroga-archived.com
SUMMARY:Oct 01\, 2020 06:00 PM
DESCRIPTION:10/1/2020 6:00 PM
URL:https://jonesboroga-archived.com/meeting/oct-01-2020-0600-pm/
LOCATION:Via Zoom Meetings
CATEGORIES:Downtown Development Authority
END:VEVENT
BEGIN:VEVENT
DTSTART;VALUE=DATE:20200929
DTEND;VALUE=DATE:20200930
DTSTAMP:20260421T094258
CREATED:20250521T072651Z
LAST-MODIFIED:20250714T065628Z
UID:1137-1601373600-1601373600@jonesboroga-archived.com
SUMMARY:Sep 29\, 2020 10:00 AM
DESCRIPTION:9/29/2020 10:00 AM
URL:https://jonesboroga-archived.com/meeting/sep-29-2020-1000-am/
LOCATION:Jonesboro Police Department
CATEGORIES:City Council
END:VEVENT
BEGIN:VEVENT
DTSTART;VALUE=DATE:20200928
DTEND;VALUE=DATE:20200929
DTSTAMP:20260421T094258
CREATED:20250521T072651Z
LAST-MODIFIED:20250714T065628Z
UID:1136-1601316000-1601316000@jonesboroga-archived.com
SUMMARY:Sep 28\, 2020 06:00 PM
DESCRIPTION:9/28/2020 6:00 PM
URL:https://jonesboroga-archived.com/meeting/sep-28-2020-0600-pm/
LOCATION:Jonesboro Police Department
CATEGORIES:City Council
END:VEVENT
BEGIN:VEVENT
DTSTART;VALUE=DATE:20200921
DTEND;VALUE=DATE:20200922
DTSTAMP:20260421T094258
CREATED:20250521T072634Z
LAST-MODIFIED:20250714T065528Z
UID:1127-1600709400-1600709400@jonesboroga-archived.com
SUMMARY:Sep 21\, 2020 05:30 PM
DESCRIPTION:9/21/2020 5:30 PM
URL:https://jonesboroga-archived.com/meeting/sep-21-2020-0530-pm/
LOCATION:Via Zoom Meetings
CATEGORIES:Jonesboro Historic Preservation Commission
END:VEVENT
BEGIN:VEVENT
DTSTART;VALUE=DATE:20200918
DTEND;VALUE=DATE:20200919
DTSTAMP:20260421T094258
CREATED:20250521T073757Z
LAST-MODIFIED:20250714T065607Z
UID:1523-1600419600-1600419600@jonesboroga-archived.com
SUMMARY:Sep 18\, 2020 09:00 AM
DESCRIPTION:9/18/2020 9:00 AM
URL:https://jonesboroga-archived.com/meeting/sep-18-2020-0900-am/
LOCATION:The Magnolia House & Garden
CATEGORIES:City Council
END:VEVENT
BEGIN:VEVENT
DTSTART;VALUE=DATE:20200914
DTEND;VALUE=DATE:20200915
DTSTAMP:20260421T094258
CREATED:20250521T072642Z
LAST-MODIFIED:20250714T065607Z
UID:1133-1600106400-1600106400@jonesboroga-archived.com
SUMMARY:Sep 14\, 2020 06:00 PM
DESCRIPTION:9/14/2020 6:00 PM
URL:https://jonesboroga-archived.com/meeting/sep-14-2020-0600-pm/
LOCATION:Jonesboro Police Department
CATEGORIES:City Council
END:VEVENT
BEGIN:VEVENT
DTSTART;VALUE=DATE:20200902
DTEND;VALUE=DATE:20200903
DTSTAMP:20260421T094258
CREATED:20250521T072642Z
LAST-MODIFIED:20250714T065550Z
UID:1131-1599064200-1599064200@jonesboroga-archived.com
SUMMARY:Sep 02\, 2020 04:30 PM
DESCRIPTION:9/2/2020 4:30 PM
URL:https://jonesboroga-archived.com/meeting/sep-02-2020-0430-pm/
LOCATION:Via Zoom Meetings
CATEGORIES:Design Review Commission
END:VEVENT
BEGIN:VEVENT
DTSTART;VALUE=DATE:20200817
DTEND;VALUE=DATE:20200818
DTSTAMP:20260421T094258
CREATED:20250521T072634Z
LAST-MODIFIED:20250714T065528Z
UID:1126-1597685400-1597685400@jonesboroga-archived.com
SUMMARY:Aug 17\, 2020 05:30 PM
DESCRIPTION:8/17/2020 5:30 PM
URL:https://jonesboroga-archived.com/meeting/aug-17-2020-0530-pm/
LOCATION:Via Zoom Meetings
CATEGORIES:Jonesboro Historic Preservation Commission
END:VEVENT
BEGIN:VEVENT
DTSTART;VALUE=DATE:20200810
DTEND;VALUE=DATE:20200811
DTSTAMP:20260421T094258
CREATED:20250521T072642Z
LAST-MODIFIED:20250714T065607Z
UID:1132-1597082400-1597082400@jonesboroga-archived.com
SUMMARY:Aug 10\, 2020 06:00 PM
DESCRIPTION:8/10/2020 6:00 PM
URL:https://jonesboroga-archived.com/meeting/aug-10-2020-0600-pm/
LOCATION:Via Zoom Meetings
CATEGORIES:City Council
END:VEVENT
BEGIN:VEVENT
DTSTART;VALUE=DATE:20200805
DTEND;VALUE=DATE:20200806
DTSTAMP:20260421T094258
CREATED:20250521T072642Z
LAST-MODIFIED:20250714T065550Z
UID:1130-1596645000-1596645000@jonesboroga-archived.com
SUMMARY:Aug 05\, 2020 04:30 PM
DESCRIPTION:8/5/2020 4:30 PM
URL:https://jonesboroga-archived.com/meeting/aug-05-2020-0430-pm/
LOCATION:Via Zoom Meetings
CATEGORIES:Design Review Commission
END:VEVENT
BEGIN:VEVENT
DTSTART;VALUE=DATE:20200803
DTEND;VALUE=DATE:20200804
DTSTAMP:20260421T094258
CREATED:20250521T072634Z
LAST-MODIFIED:20250714T065528Z
UID:1124-1596477600-1596477600@jonesboroga-archived.com
SUMMARY:Aug 03\, 2020 06:00 PM
DESCRIPTION:8/3/2020 6:00 PM
URL:https://jonesboroga-archived.com/meeting/aug-03-2020-0600-pm/
LOCATION:Via Zoom Meetings
CATEGORIES:City Council
END:VEVENT
BEGIN:VEVENT
DTSTART;VALUE=DATE:20200730
DTEND;VALUE=DATE:20200731
DTSTAMP:20260421T094258
CREATED:20250521T072642Z
LAST-MODIFIED:20250714T065550Z
UID:1129-1596132000-1596132000@jonesboroga-archived.com
SUMMARY:Jul 30\, 2020 06:00 PM
DESCRIPTION:7/30/2020 6:00 PM
URL:https://jonesboroga-archived.com/meeting/jul-30-2020-0600-pm/
LOCATION:Jonesboro Police Department
CATEGORIES:City Council
END:VEVENT
BEGIN:VEVENT
DTSTART;VALUE=DATE:20200723
DTEND;VALUE=DATE:20200724
DTSTAMP:20260421T094258
CREATED:20250521T072634Z
LAST-MODIFIED:20250714T065550Z
UID:1128-1595527200-1595527200@jonesboroga-archived.com
SUMMARY:Jul 23\, 2020 06:00 PM
DESCRIPTION:7/23/2020 6:00 PM
URL:https://jonesboroga-archived.com/meeting/jul-23-2020-0600-pm/
LOCATION:Via Zoom Meetings
CATEGORIES:Downtown Development Authority
END:VEVENT
BEGIN:VEVENT
DTSTART;VALUE=DATE:20200720
DTEND;VALUE=DATE:20200721
DTSTAMP:20260421T094258
CREATED:20250521T073741Z
LAST-MODIFIED:20250714T065550Z
UID:1513-1595268000-1595268000@jonesboroga-archived.com
SUMMARY:Jul 20\, 2020 06:00 PM
DESCRIPTION:7/20/2020 6:00 PM
URL:https://jonesboroga-archived.com/meeting/jul-20-2020-0600-pm/
LOCATION:Arts Clayton
CATEGORIES:City Council
END:VEVENT
BEGIN:VEVENT
DTSTART;VALUE=DATE:20200720
DTEND;VALUE=DATE:20200721
DTSTAMP:20260421T094258
CREATED:20250521T072634Z
LAST-MODIFIED:20250714T065528Z
UID:1125-1595266200-1595266200@jonesboroga-archived.com
SUMMARY:Jul 20\, 2020 05:30 PM
DESCRIPTION:7/20/2020 5:30 PM
URL:https://jonesboroga-archived.com/meeting/jul-20-2020-0530-pm/
LOCATION:Via Zoom Meetings
CATEGORIES:Jonesboro Historic Preservation Commission
END:VEVENT
BEGIN:VEVENT
DTSTART;VALUE=DATE:20200713
DTEND;VALUE=DATE:20200714
DTSTAMP:20260421T094258
CREATED:20250521T072625Z
LAST-MODIFIED:20250714T065503Z
UID:1120-1594663200-1594663200@jonesboroga-archived.com
SUMMARY:Jul 13\, 2020 06:00 PM
DESCRIPTION:7/13/2020 6:00 PM
URL:https://jonesboroga-archived.com/meeting/jul-13-2020-0600-pm/
LOCATION:Via Zoom Meetings
CATEGORIES:City Council
END:VEVENT
END:VCALENDAR