BEGIN:VCALENDAR
VERSION:2.0
PRODID:-//City of Jonesboro - GA - ECPv6.13.2.1//NONSGML v1.0//EN
CALSCALE:GREGORIAN
METHOD:PUBLISH
X-ORIGINAL-URL:https://jonesboroga-archived.com
X-WR-CALDESC:Events for City of Jonesboro - GA
REFRESH-INTERVAL;VALUE=DURATION:PT1H
X-Robots-Tag:noindex
X-PUBLISHED-TTL:PT1H
BEGIN:VTIMEZONE
TZID:UTC
BEGIN:STANDARD
TZOFFSETFROM:+0000
TZOFFSETTO:+0000
TZNAME:UTC
DTSTART:20220101T000000
END:STANDARD
END:VTIMEZONE
BEGIN:VEVENT
DTSTART;VALUE=DATE:20230213
DTEND;VALUE=DATE:20230214
DTSTAMP:20260420T032201
CREATED:20250521T073003Z
LAST-MODIFIED:20250714T070900Z
UID:1244-1676311200-1676311200@jonesboroga-archived.com
SUMMARY:Feb 13\, 2023 06:00 PM
DESCRIPTION:2/13/2023 6:00 PM
URL:https://jonesboroga-archived.com/meeting/feb-13-2023-0600-pm/
LOCATION:Jonesboro City Center\, 1859 City Center Way\, Jonesboro\, GA 30236\, United States
CATEGORIES:City Council
END:VEVENT
BEGIN:VEVENT
DTSTART;VALUE=DATE:20230206
DTEND;VALUE=DATE:20230207
DTSTAMP:20260420T032201
CREATED:20250521T072954Z
LAST-MODIFIED:20250714T070900Z
UID:1243-1675706400-1675706400@jonesboroga-archived.com
SUMMARY:Feb 06\, 2023 06:00 PM
DESCRIPTION:2/6/2023 6:00 PM
URL:https://jonesboroga-archived.com/meeting/feb-06-2023-0600-pm/
LOCATION:Jonesboro City Center\, 1859 City Center Way\, Jonesboro\, GA 30236\, United States
CATEGORIES:City Council
END:VEVENT
BEGIN:VEVENT
DTSTART;VALUE=DATE:20230202
DTEND;VALUE=DATE:20230203
DTSTAMP:20260420T032201
CREATED:20250521T074127Z
LAST-MODIFIED:20250714T070900Z
UID:1649-1675360800-1675360800@jonesboroga-archived.com
SUMMARY:Feb 02\, 2023 06:00 PM
DESCRIPTION:2/2/2023 6:00 PM
URL:https://jonesboroga-archived.com/meeting/feb-02-2023-0600-pm/
LOCATION:Jonesboro City Center\, 1859 City Center Way\, Jonesboro\, GA 30236\, United States
CATEGORIES:Downtown Development Authority
END:VEVENT
BEGIN:VEVENT
DTSTART;VALUE=DATE:20230201
DTEND;VALUE=DATE:20230202
DTSTAMP:20260420T032201
CREATED:20250521T074110Z
LAST-MODIFIED:20250714T070810Z
UID:1639-1675209600-1675209600@jonesboroga-archived.com
SUMMARY:Feb 01\, 2023 12:00 AM
DESCRIPTION:2/1/2023 12:00 AM
URL:https://jonesboroga-archived.com/meeting/feb-01-2023-1200-am/
LOCATION:Jonesboro City Center\, 1859 City Center Way\, Jonesboro\, GA 30236\, United States
CATEGORIES:Design Review Commission
END:VEVENT
BEGIN:VEVENT
DTSTART;VALUE=DATE:20230118
DTEND;VALUE=DATE:20230119
DTSTAMP:20260420T032201
CREATED:20250521T072954Z
LAST-MODIFIED:20250714T070900Z
UID:1242-1674064800-1674064800@jonesboroga-archived.com
SUMMARY:Jan 18\, 2023 06:00 PM
DESCRIPTION:1/18/2023 6:00 PM
URL:https://jonesboroga-archived.com/meeting/jan-18-2023-0600-pm/
LOCATION:Jonesboro City Center\, 1859 City Center Way\, Jonesboro\, GA 30236\, United States
CATEGORIES:City Council
END:VEVENT
BEGIN:VEVENT
DTSTART;VALUE=DATE:20230117
DTEND;VALUE=DATE:20230118
DTSTAMP:20260420T032201
CREATED:20250521T074119Z
LAST-MODIFIED:20250714T070843Z
UID:1642-1673913600-1673913600@jonesboroga-archived.com
SUMMARY:Jan 17\, 2023 12:00 AM
DESCRIPTION:1/17/2023 12:00 AM
URL:https://jonesboroga-archived.com/meeting/jan-17-2023-1200-am/
LOCATION:Jonesboro City Center\, 1859 City Center Way\, Jonesboro\, GA 30236\, United States
CATEGORIES:Jonesboro Historic Preservation Commission
END:VEVENT
BEGIN:VEVENT
DTSTART;VALUE=DATE:20230109
DTEND;VALUE=DATE:20230110
DTSTAMP:20260420T032201
CREATED:20250521T072954Z
LAST-MODIFIED:20250714T070843Z
UID:1241-1673222400-1673222400@jonesboroga-archived.com
SUMMARY:Jan 09\, 2023 12:00 AM
DESCRIPTION:1/9/2023 12:00 AM
URL:https://jonesboroga-archived.com/meeting/jan-09-2023-1200-am/
LOCATION:Jonesboro City Center\, 1859 City Center Way\, Jonesboro\, GA 30236\, United States
CATEGORIES:City Council
END:VEVENT
BEGIN:VEVENT
DTSTART;VALUE=DATE:20230104
DTEND;VALUE=DATE:20230105
DTSTAMP:20260420T032201
CREATED:20250521T072954Z
LAST-MODIFIED:20250714T070810Z
UID:1240-1672790400-1672790400@jonesboroga-archived.com
SUMMARY:Jan 04\, 2023 12:00 AM
DESCRIPTION:1/4/2023 12:00 AM
URL:https://jonesboroga-archived.com/meeting/jan-04-2023-1200-am/
LOCATION:Jonesboro City Center\, 1859 City Center Way\, Jonesboro\, GA 30236\, United States
CATEGORIES:Design Review Commission
END:VEVENT
BEGIN:VEVENT
DTSTART;VALUE=DATE:20221212
DTEND;VALUE=DATE:20221213
DTSTAMP:20260420T032201
CREATED:20250521T072946Z
LAST-MODIFIED:20250714T070810Z
UID:1238-1670868000-1670868000@jonesboroga-archived.com
SUMMARY:Dec 12\, 2022 06:00 PM
DESCRIPTION:12/12/2022 6:00 PM
URL:https://jonesboroga-archived.com/meeting/dec-12-2022-0600-pm/
LOCATION:Jonesboro Police Department
CATEGORIES:City Council
END:VEVENT
BEGIN:VEVENT
DTSTART;VALUE=DATE:20221205
DTEND;VALUE=DATE:20221206
DTSTAMP:20260420T032201
CREATED:20250521T072946Z
LAST-MODIFIED:20250714T070735Z
UID:1237-1670263200-1670263200@jonesboroga-archived.com
SUMMARY:Dec 05\, 2022 06:00 PM
DESCRIPTION:12/5/2022 6:00 PM
URL:https://jonesboroga-archived.com/meeting/dec-05-2022-0600-pm/
LOCATION:Jonesboro Police Department
CATEGORIES:City Council
END:VEVENT
BEGIN:VEVENT
DTSTART;VALUE=DATE:20221121
DTEND;VALUE=DATE:20221122
DTSTAMP:20260420T032201
CREATED:20250521T074030Z
LAST-MODIFIED:20250714T070520Z
UID:1612-1669051800-1669051800@jonesboroga-archived.com
SUMMARY:Nov 21\, 2022 05:30 PM
DESCRIPTION:11/21/2022 5:30 PM
URL:https://jonesboroga-archived.com/meeting/nov-21-2022-0530-pm/
LOCATION:Via Zoom Meetings
CATEGORIES:Jonesboro Historic Preservation Commission
END:VEVENT
BEGIN:VEVENT
DTSTART;VALUE=DATE:20221114
DTEND;VALUE=DATE:20221115
DTSTAMP:20260420T032201
CREATED:20250521T072945Z
LAST-MODIFIED:20250714T070735Z
UID:1235-1668448800-1668448800@jonesboroga-archived.com
SUMMARY:Nov 14\, 2022 06:00 PM
DESCRIPTION:11/14/2022 6:00 PM
URL:https://jonesboroga-archived.com/meeting/nov-14-2022-0600-pm/
LOCATION:Jonesboro Police Department
CATEGORIES:City Council
END:VEVENT
BEGIN:VEVENT
DTSTART;VALUE=DATE:20221107
DTEND;VALUE=DATE:20221108
DTSTAMP:20260420T032201
CREATED:20250521T072945Z
LAST-MODIFIED:20250714T070735Z
UID:1234-1667844000-1667844000@jonesboroga-archived.com
SUMMARY:Nov 07\, 2022 06:00 PM
DESCRIPTION:11/7/2022 6:00 PM
URL:https://jonesboroga-archived.com/meeting/nov-07-2022-0600-pm/
LOCATION:Jonesboro City Center\, 1859 City Center Way\, Jonesboro\, GA 30236\, United States
CATEGORIES:City Council
END:VEVENT
BEGIN:VEVENT
DTSTART;VALUE=DATE:20221102
DTEND;VALUE=DATE:20221103
DTSTAMP:20260420T032201
CREATED:20250521T072926Z
LAST-MODIFIED:20250714T070622Z
UID:1224-1667406600-1667406600@jonesboroga-archived.com
SUMMARY:Nov 02\, 2022 04:30 PM
DESCRIPTION:11/2/2022 4:30 PM
URL:https://jonesboroga-archived.com/meeting/nov-02-2022-0430-pm/
LOCATION:Jonesboro City Hall
CATEGORIES:Design Review Commission
END:VEVENT
BEGIN:VEVENT
DTSTART;VALUE=DATE:20221017
DTEND;VALUE=DATE:20221018
DTSTAMP:20260420T032201
CREATED:20250521T074023Z
LAST-MODIFIED:20250714T070520Z
UID:1611-1666027800-1666027800@jonesboroga-archived.com
SUMMARY:Oct 17\, 2022 05:30 PM
DESCRIPTION:10/17/2022 5:30 PM
URL:https://jonesboroga-archived.com/meeting/oct-17-2022-0530-pm/
LOCATION:Via Zoom Meetings
CATEGORIES:Jonesboro Historic Preservation Commission
END:VEVENT
BEGIN:VEVENT
DTSTART;VALUE=DATE:20221010
DTEND;VALUE=DATE:20221011
DTSTAMP:20260420T032201
CREATED:20250521T072936Z
LAST-MODIFIED:20250714T070735Z
UID:1233-1665424800-1665424800@jonesboroga-archived.com
SUMMARY:Oct 10\, 2022 06:00 PM
DESCRIPTION:10/10/2022 6:00 PM
URL:https://jonesboroga-archived.com/meeting/oct-10-2022-0600-pm/
LOCATION:Jonesboro Police Department
CATEGORIES:City Council
END:VEVENT
BEGIN:VEVENT
DTSTART;VALUE=DATE:20221005
DTEND;VALUE=DATE:20221006
DTSTAMP:20260420T032201
CREATED:20250521T072919Z
LAST-MODIFIED:20250714T070556Z
UID:1223-1664987400-1664987400@jonesboroga-archived.com
SUMMARY:Oct 05\, 2022 04:30 PM
DESCRIPTION:10/5/2022 4:30 PM
URL:https://jonesboroga-archived.com/meeting/oct-05-2022-0430-pm/
LOCATION:Jonesboro City Hall
CATEGORIES:Design Review Commission
END:VEVENT
BEGIN:VEVENT
DTSTART;VALUE=DATE:20221003
DTEND;VALUE=DATE:20221004
DTSTAMP:20260420T032201
CREATED:20250521T072936Z
LAST-MODIFIED:20250714T070702Z
UID:1232-1664820000-1664820000@jonesboroga-archived.com
SUMMARY:Oct 03\, 2022 06:00 PM
DESCRIPTION:10/3/2022 6:00 PM
URL:https://jonesboroga-archived.com/meeting/oct-03-2022-0600-pm/
LOCATION:Jonesboro Police Department
CATEGORIES:City Council
END:VEVENT
BEGIN:VEVENT
DTSTART;VALUE=DATE:20220912
DTEND;VALUE=DATE:20220913
DTSTAMP:20260420T032201
CREATED:20250521T072945Z
LAST-MODIFIED:20250714T070735Z
UID:1236-1663005600-1663005600@jonesboroga-archived.com
SUMMARY:Sep 12\, 2022 06:00 PM
DESCRIPTION:9/12/2022 6:00 PM
URL:https://jonesboroga-archived.com/meeting/sep-12-2022-0600-pm/
LOCATION:Jonesboro Police Department
CATEGORIES:City Council
END:VEVENT
BEGIN:VEVENT
DTSTART;VALUE=DATE:20220907
DTEND;VALUE=DATE:20220908
DTSTAMP:20260420T032201
CREATED:20250521T072918Z
LAST-MODIFIED:20250714T070556Z
UID:1222-1662568200-1662568200@jonesboroga-archived.com
SUMMARY:Sep 07\, 2022 04:30 PM
DESCRIPTION:9/7/2022 4:30 PM
URL:https://jonesboroga-archived.com/meeting/sep-07-2022-0430-pm/
LOCATION:Jonesboro City Hall
CATEGORIES:Design Review Commission
END:VEVENT
BEGIN:VEVENT
DTSTART;VALUE=DATE:20220905
DTEND;VALUE=DATE:20220906
DTSTAMP:20260420T032201
CREATED:20250521T072954Z
LAST-MODIFIED:20250714T040205Z
UID:1239-1662400800-1662400800@jonesboroga-archived.com
SUMMARY:Sep 05\, 2022 06:00 PM
DESCRIPTION:9/5/2022 6:00 PM
URL:https://jonesboroga-archived.com/meeting/sep-05-2022-0600-pm/
LOCATION:Jonesboro Police Department
CATEGORIES:City Council
END:VEVENT
BEGIN:VEVENT
DTSTART;VALUE=DATE:20220815
DTEND;VALUE=DATE:20220816
DTSTAMP:20260420T032201
CREATED:20250521T074023Z
LAST-MODIFIED:20250714T070438Z
UID:1610-1660584600-1660584600@jonesboroga-archived.com
SUMMARY:Aug 15\, 2022 05:30 PM
DESCRIPTION:8/15/2022 5:30 PM
URL:https://jonesboroga-archived.com/meeting/aug-15-2022-0530-pm/
LOCATION:Via Zoom Meetings
CATEGORIES:Jonesboro Historic Preservation Commission
END:VEVENT
BEGIN:VEVENT
DTSTART;VALUE=DATE:20220812
DTEND;VALUE=DATE:20220813
DTSTAMP:20260420T032201
CREATED:20250521T074110Z
LAST-MODIFIED:20250714T070810Z
UID:1637-1660294800-1660294800@jonesboroga-archived.com
SUMMARY:Aug 12\, 2022 09:00 AM
DESCRIPTION:8/12/2022 9:00 AM
URL:https://jonesboroga-archived.com/meeting/aug-12-2022-0900-am/
LOCATION:Low Temp Industries
CATEGORIES:City Council
END:VEVENT
BEGIN:VEVENT
DTSTART;VALUE=DATE:20220808
DTEND;VALUE=DATE:20220809
DTSTAMP:20260420T032201
CREATED:20250521T074054Z
LAST-MODIFIED:20250714T070702Z
UID:1629-1659981600-1659981600@jonesboroga-archived.com
SUMMARY:Aug 08\, 2022 06:00 PM
DESCRIPTION:8/8/2022 6:00 PM
URL:https://jonesboroga-archived.com/meeting/aug-08-2022-0600-pm/
LOCATION:Jonesboro Police Department
CATEGORIES:City Council
END:VEVENT
BEGIN:VEVENT
DTSTART;VALUE=DATE:20220803
DTEND;VALUE=DATE:20220804
DTSTAMP:20260420T032201
CREATED:20250521T072918Z
LAST-MODIFIED:20250714T070556Z
UID:1221-1659544200-1659544200@jonesboroga-archived.com
SUMMARY:Aug 03\, 2022 04:30 PM
DESCRIPTION:8/3/2022 4:30 PM
URL:https://jonesboroga-archived.com/meeting/aug-03-2022-0430-pm/
LOCATION:Jonesboro City Hall
CATEGORIES:Design Review Commission
END:VEVENT
BEGIN:VEVENT
DTSTART;VALUE=DATE:20220801
DTEND;VALUE=DATE:20220802
DTSTAMP:20260420T032201
CREATED:20250521T072936Z
LAST-MODIFIED:20250714T070702Z
UID:1231-1659376800-1659376800@jonesboroga-archived.com
SUMMARY:Aug 01\, 2022 06:00 PM
DESCRIPTION:8/1/2022 6:00 PM
URL:https://jonesboroga-archived.com/meeting/aug-01-2022-0600-pm/
LOCATION:Jonesboro Police Department
CATEGORIES:City Council
END:VEVENT
BEGIN:VEVENT
DTSTART;VALUE=DATE:20220718
DTEND;VALUE=DATE:20220719
DTSTAMP:20260420T032201
CREATED:20250521T072910Z
LAST-MODIFIED:20250714T070438Z
UID:1215-1658165400-1658165400@jonesboroga-archived.com
SUMMARY:Jul 18\, 2022 05:30 PM
DESCRIPTION:7/18/2022 5:30 PM
URL:https://jonesboroga-archived.com/meeting/jul-18-2022-0530-pm/
LOCATION:Via Zoom Meetings
CATEGORIES:Jonesboro Historic Preservation Commission
END:VEVENT
BEGIN:VEVENT
DTSTART;VALUE=DATE:20220711
DTEND;VALUE=DATE:20220712
DTSTAMP:20260420T032201
CREATED:20250521T072936Z
LAST-MODIFIED:20250714T070702Z
UID:1230-1657562400-1657562400@jonesboroga-archived.com
SUMMARY:Jul 11\, 2022 06:00 PM
DESCRIPTION:7/11/2022 6:00 PM
URL:https://jonesboroga-archived.com/meeting/jul-11-2022-0600-pm/
LOCATION:Jonesboro City Hall
CATEGORIES:City Council
END:VEVENT
BEGIN:VEVENT
DTSTART;VALUE=DATE:20220706
DTEND;VALUE=DATE:20220707
DTSTAMP:20260420T032201
CREATED:20250521T072918Z
LAST-MODIFIED:20250714T070556Z
UID:1220-1657125000-1657125000@jonesboroga-archived.com
SUMMARY:Jul 06\, 2022 04:30 PM
DESCRIPTION:7/6/2022 4:30 PM
URL:https://jonesboroga-archived.com/meeting/jul-06-2022-0430-pm/
LOCATION:Jonesboro City Hall
CATEGORIES:Design Review Commission
END:VEVENT
BEGIN:VEVENT
DTSTART;VALUE=DATE:20220621
DTEND;VALUE=DATE:20220622
DTSTAMP:20260420T032201
CREATED:20250521T072910Z
LAST-MODIFIED:20250714T070438Z
UID:1214-1655832600-1655832600@jonesboroga-archived.com
SUMMARY:Jun 21\, 2022 05:30 PM
DESCRIPTION:6/21/2022 5:30 PM
URL:https://jonesboroga-archived.com/meeting/jun-21-2022-0530-pm/
LOCATION:Jonesboro City Hall
CATEGORIES:Jonesboro Historic Preservation Commission
END:VEVENT
END:VCALENDAR