BEGIN:VCALENDAR
VERSION:2.0
PRODID:-//City of Jonesboro - GA - ECPv6.13.2.1//NONSGML v1.0//EN
CALSCALE:GREGORIAN
METHOD:PUBLISH
X-ORIGINAL-URL:https://jonesboroga-archived.com
X-WR-CALDESC:Events for City of Jonesboro - GA
REFRESH-INTERVAL;VALUE=DURATION:PT1H
X-Robots-Tag:noindex
X-PUBLISHED-TTL:PT1H
BEGIN:VTIMEZONE
TZID:UTC
BEGIN:STANDARD
TZOFFSETFROM:+0000
TZOFFSETTO:+0000
TZNAME:UTC
DTSTART:20230101T000000
END:STANDARD
END:VTIMEZONE
BEGIN:VEVENT
DTSTART;VALUE=DATE:20231003
DTEND;VALUE=DATE:20231004
DTSTAMP:20260419T181137
CREATED:20250521T074224Z
LAST-MODIFIED:20250714T071251Z
UID:1684-1696356000-1696356000@jonesboroga-archived.com
SUMMARY:Oct 03\, 2023 06:00 PM
DESCRIPTION:10/3/2023 6:00 PM
URL:https://jonesboroga-archived.com/meeting/oct-03-2023-0600-pm/
LOCATION:Jonesboro City Center\, 1859 City Center Way\, Jonesboro\, GA 30236\, United States
CATEGORIES:Downtown Development Authority
END:VEVENT
BEGIN:VEVENT
DTSTART;VALUE=DATE:20231002
DTEND;VALUE=DATE:20231003
DTSTAMP:20260419T181137
CREATED:20250521T073031Z
LAST-MODIFIED:20250714T071112Z
UID:1260-1696269600-1696269600@jonesboroga-archived.com
SUMMARY:Oct 02\, 2023 06:00 PM
DESCRIPTION:10/2/2023 6:00 PM
URL:https://jonesboroga-archived.com/meeting/oct-02-2023-0600-pm/
LOCATION:Jonesboro City Center\, 1859 City Center Way\, Jonesboro\, GA 30236\, United States
CATEGORIES:City Council
END:VEVENT
BEGIN:VEVENT
DTSTART;VALUE=DATE:20231002
DTEND;VALUE=DATE:20231003
DTSTAMP:20260419T181137
CREATED:20250521T073032Z
LAST-MODIFIED:20250714T071250Z
UID:1263-1696244400-1696244400@jonesboroga-archived.com
SUMMARY:Oct 02\, 2023 11:00 AM
DESCRIPTION:10/2/2023 11:00 AM
URL:https://jonesboroga-archived.com/meeting/oct-02-2023-1100-am/
LOCATION:Jonesboro City Center\, 1859 City Center Way\, Jonesboro\, GA 30236\, United States
CATEGORIES:City Council
END:VEVENT
BEGIN:VEVENT
DTSTART;VALUE=DATE:20230918
DTEND;VALUE=DATE:20230919
DTSTAMP:20260419T181137
CREATED:20250521T074216Z
LAST-MODIFIED:20250714T071203Z
UID:1681-1695058200-1695058200@jonesboroga-archived.com
SUMMARY:Sep 18\, 2023 05:30 PM
DESCRIPTION:9/18/2023 5:30 PM
URL:https://jonesboroga-archived.com/meeting/sep-18-2023-0530-pm/
LOCATION:Jonesboro City Center\, 1859 City Center Way\, Jonesboro\, GA 30236\, United States
CATEGORIES:Jonesboro Historic Preservation Commission
END:VEVENT
BEGIN:VEVENT
DTSTART;VALUE=DATE:20230911
DTEND;VALUE=DATE:20230912
DTSTAMP:20260419T181137
CREATED:20250521T073031Z
LAST-MODIFIED:20250714T071112Z
UID:1259-1694455200-1694455200@jonesboroga-archived.com
SUMMARY:Sep 11\, 2023 06:00 PM
DESCRIPTION:9/11/2023 6:00 PM
URL:https://jonesboroga-archived.com/meeting/sep-11-2023-0600-pm/
LOCATION:Jonesboro City Center\, 1859 City Center Way\, Jonesboro\, GA 30236\, United States
CATEGORIES:City Council
END:VEVENT
BEGIN:VEVENT
DTSTART;VALUE=DATE:20230906
DTEND;VALUE=DATE:20230907
DTSTAMP:20260419T181137
CREATED:20250521T073031Z
LAST-MODIFIED:20250714T071203Z
UID:1262-1694023200-1694023200@jonesboroga-archived.com
SUMMARY:Sep 06\, 2023 06:00 PM
DESCRIPTION:9/6/2023 6:00 PM
URL:https://jonesboroga-archived.com/meeting/sep-06-2023-0600-pm/
LOCATION:Jonesboro City Center\, 1859 City Center Way\, Jonesboro\, GA 30236\, United States
CATEGORIES:City Council
END:VEVENT
BEGIN:VEVENT
DTSTART;VALUE=DATE:20230905
DTEND;VALUE=DATE:20230906
DTSTAMP:20260419T181137
CREATED:20250521T074215Z
LAST-MODIFIED:20250714T071203Z
UID:1678-1693936800-1693936800@jonesboroga-archived.com
SUMMARY:Sep 05\, 2023 06:00 PM
DESCRIPTION:9/5/2023 6:00 PM
URL:https://jonesboroga-archived.com/meeting/sep-05-2023-0600-pm/
LOCATION:Jonesboro City Center\, 1859 City Center Way\, Jonesboro\, GA 30236\, United States
CATEGORIES:Downtown Development Authority
END:VEVENT
BEGIN:VEVENT
DTSTART;VALUE=DATE:20230905
DTEND;VALUE=DATE:20230906
DTSTAMP:20260419T181137
CREATED:20250521T074216Z
LAST-MODIFIED:20250714T071203Z
UID:1679-1693931400-1693931400@jonesboroga-archived.com
SUMMARY:Sep 05\, 2023 04:30 PM
DESCRIPTION:9/5/2023 4:30 PM
URL:https://jonesboroga-archived.com/meeting/sep-05-2023-0430-pm/
LOCATION:Jonesboro City Center\, 1859 City Center Way\, Jonesboro\, GA 30236\, United States
CATEGORIES:Design Review Commission
END:VEVENT
BEGIN:VEVENT
DTSTART;VALUE=DATE:20230814
DTEND;VALUE=DATE:20230815
DTSTAMP:20260419T181137
CREATED:20250521T073022Z
LAST-MODIFIED:20250714T071038Z
UID:1256-1692036000-1692036000@jonesboroga-archived.com
SUMMARY:Aug 14\, 2023 06:00 PM
DESCRIPTION:8/14/2023 6:00 PM
URL:https://jonesboroga-archived.com/meeting/aug-14-2023-0600-pm/
LOCATION:Jonesboro City Center\, 1859 City Center Way\, Jonesboro\, GA 30236\, United States
CATEGORIES:City Council
END:VEVENT
BEGIN:VEVENT
DTSTART;VALUE=DATE:20230808
DTEND;VALUE=DATE:20230809
DTSTAMP:20260419T181137
CREATED:20250521T073022Z
LAST-MODIFIED:20250714T071112Z
UID:1258-1691517600-1691517600@jonesboroga-archived.com
SUMMARY:Aug 08\, 2023 06:00 PM
DESCRIPTION:8/8/2023 6:00 PM
URL:https://jonesboroga-archived.com/meeting/aug-08-2023-0600-pm/
LOCATION:Jonesboro City Hall
CATEGORIES:Downtown Development Authority
END:VEVENT
BEGIN:VEVENT
DTSTART;VALUE=DATE:20230807
DTEND;VALUE=DATE:20230808
DTSTAMP:20260419T181137
CREATED:20250521T073022Z
LAST-MODIFIED:20250714T071112Z
UID:1257-1691431200-1691431200@jonesboroga-archived.com
SUMMARY:Aug 07\, 2023 06:00 PM
DESCRIPTION:8/7/2023 6:00 PM
URL:https://jonesboroga-archived.com/meeting/aug-07-2023-0600-pm/
LOCATION:Jonesboro City Center\, 1859 City Center Way\, Jonesboro\, GA 30236\, United States
CATEGORIES:City Council
END:VEVENT
BEGIN:VEVENT
DTSTART;VALUE=DATE:20230802
DTEND;VALUE=DATE:20230803
DTSTAMP:20260419T181137
CREATED:20250521T074207Z
LAST-MODIFIED:20250714T071112Z
UID:1673-1690993800-1690993800@jonesboroga-archived.com
SUMMARY:Aug 02\, 2023 04:30 PM
DESCRIPTION:8/2/2023 4:30 PM
URL:https://jonesboroga-archived.com/meeting/aug-02-2023-0430-pm/
LOCATION:Jonesboro City Center\, 1859 City Center Way\, Jonesboro\, GA 30236\, United States
CATEGORIES:Design Review Commission
END:VEVENT
BEGIN:VEVENT
DTSTART;VALUE=DATE:20230712
DTEND;VALUE=DATE:20230713
DTSTAMP:20260419T181137
CREATED:20250521T074151Z
LAST-MODIFIED:20250714T071038Z
UID:1667-1689179400-1689179400@jonesboroga-archived.com
SUMMARY:Jul 12\, 2023 04:30 PM
DESCRIPTION:7/12/2023 4:30 PM
URL:https://jonesboroga-archived.com/meeting/jul-12-2023-0430-pm/
LOCATION:Jonesboro City Center\, 1859 City Center Way\, Jonesboro\, GA 30236\, United States
CATEGORIES:Design Review Commission
END:VEVENT
BEGIN:VEVENT
DTSTART;VALUE=DATE:20230711
DTEND;VALUE=DATE:20230712
DTSTAMP:20260419T181137
CREATED:20250521T074159Z
LAST-MODIFIED:20250714T071038Z
UID:1671-1689098400-1689098400@jonesboroga-archived.com
SUMMARY:Jul 11\, 2023 06:00 PM
DESCRIPTION:7/11/2023 6:00 PM
URL:https://jonesboroga-archived.com/meeting/jul-11-2023-0600-pm/
LOCATION:Jonesboro City Center\, 1859 City Center Way\, Jonesboro\, GA 30236\, United States
CATEGORIES:Downtown Development Authority
END:VEVENT
BEGIN:VEVENT
DTSTART;VALUE=DATE:20230710
DTEND;VALUE=DATE:20230711
DTSTAMP:20260419T181137
CREATED:20250521T073022Z
LAST-MODIFIED:20250714T071010Z
UID:1255-1689012000-1689012000@jonesboroga-archived.com
SUMMARY:Jul 10\, 2023 06:00 PM
DESCRIPTION:7/10/2023 6:00 PM
URL:https://jonesboroga-archived.com/meeting/jul-10-2023-0600-pm/
LOCATION:Jonesboro City Center\, 1859 City Center Way\, Jonesboro\, GA 30236\, United States
CATEGORIES:City Council
END:VEVENT
BEGIN:VEVENT
DTSTART;VALUE=DATE:20230620
DTEND;VALUE=DATE:20230621
DTSTAMP:20260419T181137
CREATED:20250521T074159Z
LAST-MODIFIED:20250714T071038Z
UID:1669-1687282200-1687282200@jonesboroga-archived.com
SUMMARY:Jun 20\, 2023 05:30 PM
DESCRIPTION:6/20/2023 5:30 PM
URL:https://jonesboroga-archived.com/meeting/jun-20-2023-0530-pm/
LOCATION:Jonesboro City Center\, 1859 City Center Way\, Jonesboro\, GA 30236\, United States
CATEGORIES:Jonesboro Historic Preservation Commission
END:VEVENT
BEGIN:VEVENT
DTSTART;VALUE=DATE:20230612
DTEND;VALUE=DATE:20230613
DTSTAMP:20260419T181137
CREATED:20250521T073022Z
LAST-MODIFIED:20250714T071010Z
UID:1254-1686592800-1686592800@jonesboroga-archived.com
SUMMARY:Jun 12\, 2023 06:00 PM
DESCRIPTION:6/12/2023 6:00 PM
URL:https://jonesboroga-archived.com/meeting/jun-12-2023-0600-pm/
LOCATION:Jonesboro City Center\, 1859 City Center Way\, Jonesboro\, GA 30236\, United States
CATEGORIES:City Council
END:VEVENT
BEGIN:VEVENT
DTSTART;VALUE=DATE:20230607
DTEND;VALUE=DATE:20230608
DTSTAMP:20260419T181137
CREATED:20250521T074151Z
LAST-MODIFIED:20250714T071010Z
UID:1666-1686155400-1686155400@jonesboroga-archived.com
SUMMARY:Jun 07\, 2023 04:30 PM
DESCRIPTION:6/7/2023 4:30 PM
URL:https://jonesboroga-archived.com/meeting/jun-07-2023-0430-pm/
LOCATION:Jonesboro City Center\, 1859 City Center Way\, Jonesboro\, GA 30236\, United States
CATEGORIES:Design Review Commission
END:VEVENT
BEGIN:VEVENT
DTSTART;VALUE=DATE:20230606
DTEND;VALUE=DATE:20230607
DTSTAMP:20260419T181137
CREATED:20250521T074159Z
LAST-MODIFIED:20250714T071038Z
UID:1668-1686074400-1686074400@jonesboroga-archived.com
SUMMARY:Jun 06\, 2023 06:00 PM
DESCRIPTION:6/6/2023 6:00 PM
URL:https://jonesboroga-archived.com/meeting/jun-06-2023-0600-pm/
LOCATION:Jonesboro City Hall
CATEGORIES:Downtown Development Authority
END:VEVENT
BEGIN:VEVENT
DTSTART;VALUE=DATE:20230605
DTEND;VALUE=DATE:20230606
DTSTAMP:20260419T181137
CREATED:20250521T073013Z
LAST-MODIFIED:20250714T070950Z
UID:1253-1685988000-1685988000@jonesboroga-archived.com
SUMMARY:Jun 05\, 2023 06:00 PM
DESCRIPTION:6/5/2023 6:00 PM
URL:https://jonesboroga-archived.com/meeting/jun-05-2023-0600-pm/
LOCATION:Jonesboro City Center\, 1859 City Center Way\, Jonesboro\, GA 30236\, United States
CATEGORIES:City Council
END:VEVENT
BEGIN:VEVENT
DTSTART;VALUE=DATE:20230531
DTEND;VALUE=DATE:20230601
DTSTAMP:20260419T181137
CREATED:20250521T074151Z
LAST-MODIFIED:20250714T071010Z
UID:1664-1685521800-1685521800@jonesboroga-archived.com
SUMMARY:May 31\, 2023 08:30 AM
DESCRIPTION:5/31/2023 8:30 AM
URL:https://jonesboroga-archived.com/meeting/may-31-2023-0830-am/
LOCATION:City of Lake City Community Center
CATEGORIES:City Council
END:VEVENT
BEGIN:VEVENT
DTSTART;VALUE=DATE:20230515
DTEND;VALUE=DATE:20230516
DTSTAMP:20260419T181137
CREATED:20250521T074119Z
LAST-MODIFIED:20250714T070843Z
UID:1644-1684108800-1684108800@jonesboroga-archived.com
SUMMARY:May 15\, 2023 12:00 AM
DESCRIPTION:5/15/2023 12:00 AM
URL:https://jonesboroga-archived.com/meeting/may-15-2023-1200-am/
LOCATION:Jonesboro City Center\, 1859 City Center Way\, Jonesboro\, GA 30236\, United States
CATEGORIES:Jonesboro Historic Preservation Commission
END:VEVENT
BEGIN:VEVENT
DTSTART;VALUE=DATE:20230508
DTEND;VALUE=DATE:20230509
DTSTAMP:20260419T181137
CREATED:20250521T073013Z
LAST-MODIFIED:20250714T070950Z
UID:1252-1683568800-1683568800@jonesboroga-archived.com
SUMMARY:May 08\, 2023 06:00 PM
DESCRIPTION:5/8/2023 6:00 PM
URL:https://jonesboroga-archived.com/meeting/may-08-2023-0600-pm/
LOCATION:Jonesboro City Center\, 1859 City Center Way\, Jonesboro\, GA 30236\, United States
CATEGORIES:City Council
END:VEVENT
BEGIN:VEVENT
DTSTART;VALUE=DATE:20230503
DTEND;VALUE=DATE:20230504
DTSTAMP:20260419T181137
CREATED:20250521T074111Z
LAST-MODIFIED:20250714T070842Z
UID:1641-1683072000-1683072000@jonesboroga-archived.com
SUMMARY:May 03\, 2023 12:00 AM
DESCRIPTION:5/3/2023 12:00 AM
URL:https://jonesboroga-archived.com/meeting/may-03-2023-1200-am/
LOCATION:Jonesboro City Center\, 1859 City Center Way\, Jonesboro\, GA 30236\, United States
CATEGORIES:Design Review Commission
END:VEVENT
BEGIN:VEVENT
DTSTART;VALUE=DATE:20230502
DTEND;VALUE=DATE:20230503
DTSTAMP:20260419T181137
CREATED:20250521T074151Z
LAST-MODIFIED:20250714T071010Z
UID:1662-1683050400-1683050400@jonesboroga-archived.com
SUMMARY:May 02\, 2023 06:00 PM
DESCRIPTION:5/2/2023 6:00 PM
URL:https://jonesboroga-archived.com/meeting/may-02-2023-0600-pm/
LOCATION:Jonesboro City Center\, 1859 City Center Way\, Jonesboro\, GA 30236\, United States
CATEGORIES:Downtown Development Authority
END:VEVENT
BEGIN:VEVENT
DTSTART;VALUE=DATE:20230501
DTEND;VALUE=DATE:20230502
DTSTAMP:20260419T181137
CREATED:20250521T073013Z
LAST-MODIFIED:20250714T070949Z
UID:1251-1682964000-1682964000@jonesboroga-archived.com
SUMMARY:May 01\, 2023 06:00 PM
DESCRIPTION:5/1/2023 6:00 PM
URL:https://jonesboroga-archived.com/meeting/may-01-2023-0600-pm/
LOCATION:Jonesboro City Hall
CATEGORIES:City Council
END:VEVENT
BEGIN:VEVENT
DTSTART;VALUE=DATE:20230417
DTEND;VALUE=DATE:20230418
DTSTAMP:20260419T181137
CREATED:20250521T073012Z
LAST-MODIFIED:20250714T070949Z
UID:1250-1681754400-1681754400@jonesboroga-archived.com
SUMMARY:Apr 17\, 2023 06:00 PM
DESCRIPTION:4/17/2023 6:00 PM
URL:https://jonesboroga-archived.com/meeting/apr-17-2023-0600-pm/
LOCATION:Jonesboro City Center\, 1859 City Center Way\, Jonesboro\, GA 30236\, United States
CATEGORIES:City Council
END:VEVENT
BEGIN:VEVENT
DTSTART;VALUE=DATE:20230413
DTEND;VALUE=DATE:20230414
DTSTAMP:20260419T181137
CREATED:20250521T074135Z
LAST-MODIFIED:20250714T070949Z
UID:1656-1681408800-1681408800@jonesboroga-archived.com
SUMMARY:Apr 13\, 2023 06:00 PM
DESCRIPTION:4/13/2023 6:00 PM
URL:https://jonesboroga-archived.com/meeting/apr-13-2023-0600-pm/
LOCATION:Jonesboro City Center\, 1859 City Center Way\, Jonesboro\, GA 30236\, United States
CATEGORIES:Downtown Development Authority
END:VEVENT
BEGIN:VEVENT
DTSTART;VALUE=DATE:20230410
DTEND;VALUE=DATE:20230411
DTSTAMP:20260419T181137
CREATED:20250521T073012Z
LAST-MODIFIED:20250714T070930Z
UID:1249-1681149600-1681149600@jonesboroga-archived.com
SUMMARY:Apr 10\, 2023 06:00 PM
DESCRIPTION:4/10/2023 6:00 PM
URL:https://jonesboroga-archived.com/meeting/apr-10-2023-0600-pm/
LOCATION:Jonesboro City Center\, 1859 City Center Way\, Jonesboro\, GA 30236\, United States
CATEGORIES:City Council
END:VEVENT
BEGIN:VEVENT
DTSTART;VALUE=DATE:20230403
DTEND;VALUE=DATE:20230404
DTSTAMP:20260419T181137
CREATED:20250521T073003Z
LAST-MODIFIED:20250714T070930Z
UID:1248-1680544800-1680544800@jonesboroga-archived.com
SUMMARY:Apr 03\, 2023 06:00 PM
DESCRIPTION:4/3/2023 6:00 PM
URL:https://jonesboroga-archived.com/meeting/apr-03-2023-0600-pm/
LOCATION:Jonesboro City Center\, 1859 City Center Way\, Jonesboro\, GA 30236\, United States
CATEGORIES:City Council
END:VEVENT
END:VCALENDAR